BEGIN:VCALENDAR
VERSION:2.0
PRODID:-//InvisionCommunity Events 4.7.23//EN
METHOD:PUBLISH
CALSCALE:GREGORIAN
REFRESH-INTERVAL:PT15M
X-PUBLISHED-TTL:PT15M
X-WR-CALNAME:At My TV
NAME:At My TV
BEGIN:VTIMEZONE
TZID:Europe/London
TZURL:http://tzurl.org/zoneinfo/Europe/London
X-LIC-LOCATION:Europe/London
BEGIN:DAYLIGHT
TZOFFSETFROM:+0000
TZOFFSETTO:+0100
TZNAME:BST
DTSTART:20240331T020000Z
RRULE:FREQ=YEARLY;BYMONTH=3;BYDAY=-1SU
END:DAYLIGHT
BEGIN:STANDARD
TZOFFSETFROM:+0100
TZOFFSETTO:+0000
TZNAME:GMT
DTSTART:20241027T020000Z
RRULE:FREQ=YEARLY;BYMONTH=10;BYDAY=-1SU
END:STANDARD
END:VTIMEZONE
BEGIN:VEVENT
SUMMARY:Traffic Cops 12x10 - Episode 10
DTSTAMP:20240217T105651Z
SEQUENCE:0
UID:175955-2-841ebed20eb198c4569419e99b7bf40a@themidnightzone.com
ORGANIZER;CN="Midnight":midnight@themidnightzone.com
DESCRIPTION:Officers chase a suspected stolen vehicle believed to be usi
	ngfake number plates. As the car fails to stop\, more units jointhe pursui
	t and are aided by a heroic member of the public whochases the driver as h
	e tries to get away. A call comes inabout a fight in a pub\, where a male 
	customer has allegedlybeen assaulted by a woman who is being aggressive. I
	nChesterfield\, a woman is caught driving her partner's car withno licence
	 and no insurance.
DTSTART:20240219T200000Z
DTEND:20240219T205800Z
END:VEVENT
END:VCALENDAR
