BEGIN:VCALENDAR
VERSION:2.0
PRODID:-//InvisionCommunity Events 4.7.23//EN
METHOD:PUBLISH
CALSCALE:GREGORIAN
REFRESH-INTERVAL:PT15M
X-PUBLISHED-TTL:PT15M
X-WR-CALNAME:At My TV
NAME:At My TV
BEGIN:VTIMEZONE
TZID:Europe/London
TZURL:http://tzurl.org/zoneinfo/Europe/London
X-LIC-LOCATION:Europe/London
BEGIN:DAYLIGHT
TZOFFSETFROM:+0000
TZOFFSETTO:+0100
TZNAME:BST
DTSTART:20240331T020000Z
RRULE:FREQ=YEARLY;BYMONTH=3;BYDAY=-1SU
END:DAYLIGHT
BEGIN:STANDARD
TZOFFSETFROM:+0100
TZOFFSETTO:+0000
TZNAME:GMT
DTSTART:20241027T020000Z
RRULE:FREQ=YEARLY;BYMONTH=10;BYDAY=-1SU
END:STANDARD
END:VTIMEZONE
BEGIN:VEVENT
SUMMARY:Tamron Hall 5x106 - Tamron's Comedy Hour Is Back!
DTSTAMP:20240218T105652Z
SEQUENCE:0
UID:175984-2-841ebed20eb198c4569419e99b7bf40a@themidnightzone.com
ORGANIZER;CN="Midnight":midnight@themidnightzone.com
DESCRIPTION:DULCÉ SLOAN\, \"The Daily Show\" correspondent and one thes
	harpest voices in comedy kicks off the show with hilariousstories from her
	 memoir\, \"Hello\, Friends!\" Then\, StatenIsland comedian LISA MARIE RIL
	EY\, aka onefunnylisamarie\, onhow she honors her late husband through com
	edy. Actress andcomedian LEA'H SAMPSON on her rising stand-up career and w
	hyaudiences are drawn to her relatable\, raw and unexpectedcomedy. Plus\, 
	hitmaking duo LOUIS YORK and R&amp\;B legendTAMIA perform their new single
	\, \"Three Little Words.\"
DTSTART:20240222T050000Z
DTEND:20240222T060000Z
END:VEVENT
END:VCALENDAR
