BEGIN:VCALENDAR
VERSION:2.0
PRODID:-//InvisionCommunity Events 4.7.23//EN
METHOD:PUBLISH
CALSCALE:GREGORIAN
REFRESH-INTERVAL:PT15M
X-PUBLISHED-TTL:PT15M
X-WR-CALNAME:At My TV
NAME:At My TV
BEGIN:VTIMEZONE
TZID:Europe/London
TZURL:http://tzurl.org/zoneinfo/Europe/London
X-LIC-LOCATION:Europe/London
BEGIN:DAYLIGHT
TZOFFSETFROM:+0000
TZOFFSETTO:+0100
TZNAME:BST
DTSTART:20240331T020000Z
RRULE:FREQ=YEARLY;BYMONTH=3;BYDAY=-1SU
END:DAYLIGHT
BEGIN:STANDARD
TZOFFSETFROM:+0100
TZOFFSETTO:+0000
TZNAME:GMT
DTSTART:20241027T020000Z
RRULE:FREQ=YEARLY;BYMONTH=10;BYDAY=-1SU
END:STANDARD
END:VTIMEZONE
BEGIN:VEVENT
SUMMARY:Tamron Hall 5x104 - Know Your Worth\, Then Add Tax
DTSTAMP:20240218T105652Z
SEQUENCE:0
UID:175995-2-841ebed20eb198c4569419e99b7bf40a@themidnightzone.com
ORGANIZER;CN="Midnight":midnight@themidnightzone.com
DESCRIPTION:GRAMMY® Award-winning singer and actress\, LETOYA LUCKETTjo
	ins the Tam Fam to chat about her recent \"Destiny's Child\"reunion\, moth
	erhood and hosting the upcoming \"Urban OneHonors.\" Then the star of \"Li
	ttle People\, Big World\" AMYROLOFF joins the Tam Fam to talk about when s
	he recognized herown worth and the highly anticipated 25th season of the r
	ealityseries\; plus\, her husband\, CHRIS MAREK\, on the secret totheir ha
	ppy marriage. Then\, self-made billionaire and New YorkTimes bestselling a
	uthor JAMIE KERN LIMA is here to motivatethe Tam Fam with tips from her ne
	w book\, \"Worthy: How toBelieve You Are Enough and Transform Your Life\"\
	; and anall-new Shop Tam Fam.
DTSTART:20240220T050000Z
DTEND:20240220T060000Z
END:VEVENT
END:VCALENDAR
