BEGIN:VCALENDAR
VERSION:2.0
PRODID:-//InvisionCommunity Events 4.7.23//EN
METHOD:PUBLISH
CALSCALE:GREGORIAN
REFRESH-INTERVAL:PT15M
X-PUBLISHED-TTL:PT15M
X-WR-CALNAME:At My TV
NAME:At My TV
BEGIN:VTIMEZONE
TZID:Europe/London
TZURL:http://tzurl.org/zoneinfo/Europe/London
X-LIC-LOCATION:Europe/London
BEGIN:DAYLIGHT
TZOFFSETFROM:+0000
TZOFFSETTO:+0100
TZNAME:BST
DTSTART:20240331T020000Z
RRULE:FREQ=YEARLY;BYMONTH=3;BYDAY=-1SU
END:DAYLIGHT
BEGIN:STANDARD
TZOFFSETFROM:+0100
TZOFFSETTO:+0000
TZNAME:GMT
DTSTART:20241027T020000Z
RRULE:FREQ=YEARLY;BYMONTH=10;BYDAY=-1SU
END:STANDARD
END:VTIMEZONE
BEGIN:VEVENT
SUMMARY:Saturday Night Live 49x13 - Sydney Sweeney / Kacey Musgraves
DTSTAMP:20240221T105650Z
SEQUENCE:0
UID:176162-2-841ebed20eb198c4569419e99b7bf40a@themidnightzone.com
ORGANIZER;CN="Midnight":midnight@themidnightzone.com
DESCRIPTION:Sydney Sweeney makes her \"SNL\" hosting debut. The EmmyAwar
	d-nominated actress produced and stars in \"Immaculate\,\"opening March 22
	.Kacey Musgraves takes the stage for her thirdappearance as musical guest.
	 The Grammy-winning artist'supcoming album\, \"Deeper Well\,\" will be rel
	eased March 15.
DTSTART:20240303T042900Z
DTEND:20240303T055900Z
END:VEVENT
END:VCALENDAR
