BEGIN:VCALENDAR
VERSION:2.0
PRODID:-//InvisionCommunity Events 4.7.23//EN
METHOD:PUBLISH
CALSCALE:GREGORIAN
REFRESH-INTERVAL:PT15M
X-PUBLISHED-TTL:PT15M
X-WR-CALNAME:At My TV
NAME:At My TV
BEGIN:VTIMEZONE
TZID:Europe/London
TZURL:http://tzurl.org/zoneinfo/Europe/London
X-LIC-LOCATION:Europe/London
BEGIN:DAYLIGHT
TZOFFSETFROM:+0000
TZOFFSETTO:+0100
TZNAME:BST
DTSTART:20240331T020000Z
RRULE:FREQ=YEARLY;BYMONTH=3;BYDAY=-1SU
END:DAYLIGHT
BEGIN:STANDARD
TZOFFSETFROM:+0100
TZOFFSETTO:+0000
TZNAME:GMT
DTSTART:20241027T020000Z
RRULE:FREQ=YEARLY;BYMONTH=10;BYDAY=-1SU
END:STANDARD
END:VTIMEZONE
BEGIN:VEVENT
SUMMARY:Tamron Hall 5x109 - The Busy Brag
DTSTAMP:20240224T105649Z
SEQUENCE:0
UID:176309-2-841ebed20eb198c4569419e99b7bf40a@themidnightzone.com
ORGANIZER;CN="Midnight":midnight@themidnightzone.com
DESCRIPTION:We are talking to people who say being busy is not a badge o
	fhonor and how to reclaim your time. Then\, a look behind thetrending move
	ment to wake up at 5 a.m. Plus\, two-time Emmy®Award winner and ABC News 
	anchor and host LINSEY DAVIS on whatinspired her new children's book\, \"G
	irls of the World: DoingMore Than Before.\" And an all-new Shop Tam Fam!
DTSTART:20240227T050000Z
DTEND:20240227T060000Z
END:VEVENT
END:VCALENDAR
