BEGIN:VCALENDAR
VERSION:2.0
PRODID:-//InvisionCommunity Events 4.7.23//EN
METHOD:PUBLISH
CALSCALE:GREGORIAN
REFRESH-INTERVAL:PT15M
X-PUBLISHED-TTL:PT15M
X-WR-CALNAME:At My TV
NAME:At My TV
BEGIN:VTIMEZONE
TZID:Europe/London
TZURL:http://tzurl.org/zoneinfo/Europe/London
X-LIC-LOCATION:Europe/London
BEGIN:DAYLIGHT
TZOFFSETFROM:+0000
TZOFFSETTO:+0100
TZNAME:BST
DTSTART:20240331T020000Z
RRULE:FREQ=YEARLY;BYMONTH=3;BYDAY=-1SU
END:DAYLIGHT
BEGIN:STANDARD
TZOFFSETFROM:+0100
TZOFFSETTO:+0000
TZNAME:GMT
DTSTART:20241027T020000Z
RRULE:FREQ=YEARLY;BYMONTH=10;BYDAY=-1SU
END:STANDARD
END:VTIMEZONE
BEGIN:VEVENT
SUMMARY:60 Minutes 56x27 - Secretary of Commerce | On British Soil |
	Kevin Hart
DTSTAMP:20240412T025635Z
SEQUENCE:0
UID:178770-2-841ebed20eb198c4569419e99b7bf40a@themidnightzone.com
ORGANIZER;CN="Midnight":midnight@themidnightzone.com
DESCRIPTION:Secretary of Commerce – Since taking office as the U.S.Sec
	retary of Commerce under the Biden administration\, GinaRaimondo has turne
	d the second-tier agency into a center ofnational security\, manufacturing
	\, and job creation.CorrespondentLesley Stahl meets Raimondo to talk about
	 theinternational \"chip war\" after Russia invaded Ukraine\, theescalatin
	g trade tensions with China over U.S. restrictions onthe sale of leading-e
	dge semiconductors\, and U.S. jobs hangingin the balance. Raimondo also sh
	ares the path that brought herto lead President Joe Biden's Department of 
	Commerce. RichardBonin is the producer.On British Soil – Less than 100 m
	ilesfrom Britain's mainland lie the Channel Islands\, British Crowndepende
	ncies with a fraught and hotly debated history. 60MINUTES contributor Holl
	y Williams visits the islands thatGermany occupied for five years during W
	orld War II and wherethe Nazis operated two concentration camps. Williams 
	speakswith historians\, British government officials\, and longtimeresiden
	ts to find out what really happened. Justine Redman andErin Lyall are the 
	producers.Kevin Hart – CorrespondentAnderson Cooper profiles Kevin Hart\
	, the highest-grossingcomedian today and a bankable movie star\, who is no
	w adding anew title to his resume – entertainment and business mogul.Coo
	per goes backstage with Hart in Pasadena\, Calif.\, to watchhim test out n
	ew material for an upcoming comedy tour. He sitsdown with him at his headq
	uarters in Los Angeles to talk aboutthe business of being funny and his gr
	owing empire. NicholeMarks is the producer.
DTSTART:20240421T230000Z
DTEND:20240422T000000Z
END:VEVENT
END:VCALENDAR
