BEGIN:VCALENDAR
VERSION:2.0
PRODID:-//InvisionCommunity Events 4.7.23//EN
METHOD:PUBLISH
CALSCALE:GREGORIAN
REFRESH-INTERVAL:PT15M
X-PUBLISHED-TTL:PT15M
X-WR-CALNAME:At My TV
NAME:At My TV
BEGIN:VTIMEZONE
TZID:Europe/London
TZURL:http://tzurl.org/zoneinfo/Europe/London
X-LIC-LOCATION:Europe/London
BEGIN:DAYLIGHT
TZOFFSETFROM:+0000
TZOFFSETTO:+0100
TZNAME:BST
DTSTART:20240331T020000Z
RRULE:FREQ=YEARLY;BYMONTH=3;BYDAY=-1SU
END:DAYLIGHT
BEGIN:STANDARD
TZOFFSETFROM:+0100
TZOFFSETTO:+0000
TZNAME:GMT
DTSTART:20241027T020000Z
RRULE:FREQ=YEARLY;BYMONTH=10;BYDAY=-1SU
END:STANDARD
END:VTIMEZONE
BEGIN:VEVENT
SUMMARY:The Jennifer Hudson Show 2x131 - Sheryl Crow\, Sabrina Elba
DTSTAMP:20240413T025635Z
SEQUENCE:0
UID:178848-2-841ebed20eb198c4569419e99b7bf40a@themidnightzone.com
ORGANIZER;CN="Midnight":midnight@themidnightzone.com
DESCRIPTION:Singer Sheryl Crow chats with Jennifer about her new album\,
	\"Evolution.\"Sabrina Elba from S'ABLE Labs Skincare also stopsby.Jennifer
	 then welcomes Dr. Luke Wood of Sacramento\,California. Last July\, he bec
	ame permanent president ofSacramento State\, the youngest among all the na
	tion's publicfour-year colleges and universities. Despite facing adversity
	\,including being born while his biological mother wasincarcerated\, growi
	ng up in foster care\, and facing housingand food insecurities\, Dr. Wood 
	graduated from college\,crediting Sac State's support. Now\, he aims to bo
	ostgraduation rates for former foster youth\, launching the BlackHonors Co
	llege initiative.
DTSTART:20240417T150000Z
DTEND:20240417T160000Z
END:VEVENT
END:VCALENDAR
