BEGIN:VCALENDAR
VERSION:2.0
PRODID:-//InvisionCommunity Events 4.7.23//EN
METHOD:PUBLISH
CALSCALE:GREGORIAN
REFRESH-INTERVAL:PT15M
X-PUBLISHED-TTL:PT15M
X-WR-CALNAME:At My TV
NAME:At My TV
BEGIN:VTIMEZONE
TZID:Europe/London
TZURL:http://tzurl.org/zoneinfo/Europe/London
X-LIC-LOCATION:Europe/London
BEGIN:DAYLIGHT
TZOFFSETFROM:+0000
TZOFFSETTO:+0100
TZNAME:BST
DTSTART:20240331T020000Z
RRULE:FREQ=YEARLY;BYMONTH=3;BYDAY=-1SU
END:DAYLIGHT
BEGIN:STANDARD
TZOFFSETFROM:+0100
TZOFFSETTO:+0000
TZNAME:GMT
DTSTART:20241027T020000Z
RRULE:FREQ=YEARLY;BYMONTH=10;BYDAY=-1SU
END:STANDARD
END:VTIMEZONE
BEGIN:VEVENT
SUMMARY:Tamron Hall 5x141 - The Burden of 30
DTSTAMP:20240420T025632Z
SEQUENCE:0
UID:179254-2-841ebed20eb198c4569419e99b7bf40a@themidnightzone.com
ORGANIZER;CN="Midnight":midnight@themidnightzone.com
DESCRIPTION:Daytime Exclusive with mother and mental health advocate APR
	ILSIMPKINS on the tragic suicide of her daughter\, former MissUSA Cheslie 
	Kryst\, and the motivation behind her new book\,\"By The Time You Read Thi
	s: The Space Between Cheslie's Smileand Mental Illness – Her Story In He
	r Own Words.\" Then\,30-year-old TikTok influencer EMILY BONANI shares her
	 journeyof anxiety around aging\, followed by advice on facing your 30sin 
	the age of social media\, from psychotherapist and author of\"Quarterlife:
	 The Search for Self in Early Adulthood\,\" SATYADOYLE BYOCK. Plus\, an al
	l-new Shop Tam Fam!
DTSTART:20240423T040000Z
DTEND:20240423T050000Z
END:VEVENT
END:VCALENDAR
