BEGIN:VCALENDAR
VERSION:2.0
PRODID:-//InvisionCommunity Events 4.7.23//EN
METHOD:PUBLISH
CALSCALE:GREGORIAN
REFRESH-INTERVAL:PT15M
X-PUBLISHED-TTL:PT15M
X-WR-CALNAME:At My TV
NAME:At My TV
BEGIN:VTIMEZONE
TZID:Europe/London
TZURL:http://tzurl.org/zoneinfo/Europe/London
X-LIC-LOCATION:Europe/London
BEGIN:DAYLIGHT
TZOFFSETFROM:+0000
TZOFFSETTO:+0100
TZNAME:BST
DTSTART:20240331T020000Z
RRULE:FREQ=YEARLY;BYMONTH=3;BYDAY=-1SU
END:DAYLIGHT
BEGIN:STANDARD
TZOFFSETFROM:+0100
TZOFFSETTO:+0000
TZNAME:GMT
DTSTART:20241027T020000Z
RRULE:FREQ=YEARLY;BYMONTH=10;BYDAY=-1SU
END:STANDARD
END:VTIMEZONE
BEGIN:VEVENT
SUMMARY:MasterChef 20x14 - Episode 14
DTSTAMP:20240424T025632Z
SEQUENCE:0
UID:179434-2-841ebed20eb198c4569419e99b7bf40a@themidnightzone.com
ORGANIZER;CN="Midnight":midnight@themidnightzone.com
DESCRIPTION:Five more comeback contestants return to the competition to 
	trytheir luck again. A quarter-final place awaits those whooutperform the 
	others across two tough challenges.The firstrequest from John and Gregg is
	 for two outstanding plates offood - a main course and dessert that prove 
	they have learntfrom past mistakes. Some might be brave enough to recreate
	recipes from their past attempt. They will have one hour and 45minutes to 
	get creative and nail the brief. Nobody will headhome after this round\, b
	ut the judges won't forget dishes thatleave a bad taste in their mouth.Nex
	t up\, the comeback crewmust show drive as they each design a dish that th
	ey wouldserve from a food truck. It will need to be a street-food gemto se
	t socials alight and leave people queuing for more. Thisfood style is righ
	t up the street of the guest taster -MasterChef: The Professionals 2019 ch
	ampion\, Stuart Deeley.Stuart's food is a celebration of what he likes to 
	eat\, sohe'll be expecting to see real personality in the contestant'screa
	tions. Will they deliver a trucking treat that will ticklethe taste buds? 
	Or will their truck be towed back home?It'sthen crunch time\, and the thre
	e who have impressed the mostcan celebrate with a place in the last quarte
	r-final\, withtheir dream of becoming MasterChef champion 2024 still verym
	uch alive.
DTSTART:20240502T200000Z
DTEND:20240502T204100Z
END:VEVENT
END:VCALENDAR
