BEGIN:VCALENDAR
VERSION:2.0
PRODID:-//InvisionCommunity Events 4.7.23//EN
METHOD:PUBLISH
CALSCALE:GREGORIAN
REFRESH-INTERVAL:PT15M
X-PUBLISHED-TTL:PT15M
X-WR-CALNAME:At My TV
NAME:At My TV
BEGIN:VTIMEZONE
TZID:Europe/London
TZURL:http://tzurl.org/zoneinfo/Europe/London
X-LIC-LOCATION:Europe/London
BEGIN:DAYLIGHT
TZOFFSETFROM:+0000
TZOFFSETTO:+0100
TZNAME:BST
DTSTART:20240331T020000Z
RRULE:FREQ=YEARLY;BYMONTH=3;BYDAY=-1SU
END:DAYLIGHT
BEGIN:STANDARD
TZOFFSETFROM:+0100
TZOFFSETTO:+0000
TZNAME:GMT
DTSTART:20241027T020000Z
RRULE:FREQ=YEARLY;BYMONTH=10;BYDAY=-1SU
END:STANDARD
END:VTIMEZONE
BEGIN:VEVENT
SUMMARY:The Jennifer Hudson Show 2x143 - Hannah Waddingham
DTSTAMP:20240427T025629Z
SEQUENCE:0
UID:179622-2-841ebed20eb198c4569419e99b7bf40a@themidnightzone.com
ORGANIZER;CN="Midnight":midnight@themidnightzone.com
DESCRIPTION:Hannah Waddingham stops by to chat about \"The Fall Guy\" an
	d\"The Garfield Movie.\"Jennifer then welcomes Kay Cox ofHouston\, Texas\,
	 a kid golfer who recently went viral forhitting her first hole-in-one —
	 a feat with odds of 1 in12\,500 for adults. She took up golf in 2020 afte
	r beinginspired by an LPGA Tour commercial and has quickly risen topromine
	nce in the sport. Kay was even among 12 girls invited tothe U.S. Women's O
	pen.Jennifer also chats with Larry FarrishJr. of Louisville\, Kentucky\,a 
	school bus driver who loves hisjob. He currently serves nine public school
	s and says thestudents are like his children. Last month\, a story of Larr
	ybuying PJs for a student who didn't have them for Pajama Daywent viral. L
	arry regularly goes above and beyond for thekids\, buying them clothes\, s
	hoes\, backpacks\, and food\, andbeing a friend to them. He says the child
	ren face a lot whenthey are not in his care\, so he does whatever he can t
	o lend ahelping hand.
DTSTART:20240503T150000Z
DTEND:20240503T160000Z
END:VEVENT
END:VCALENDAR
