BEGIN:VCALENDAR
VERSION:2.0
PRODID:-//InvisionCommunity Events 4.7.23//EN
METHOD:PUBLISH
CALSCALE:GREGORIAN
REFRESH-INTERVAL:PT15M
X-PUBLISHED-TTL:PT15M
X-WR-CALNAME:At My TV
NAME:At My TV
BEGIN:VTIMEZONE
TZID:Europe/London
TZURL:http://tzurl.org/zoneinfo/Europe/London
X-LIC-LOCATION:Europe/London
BEGIN:DAYLIGHT
TZOFFSETFROM:+0000
TZOFFSETTO:+0100
TZNAME:BST
DTSTART:20240331T020000Z
RRULE:FREQ=YEARLY;BYMONTH=3;BYDAY=-1SU
END:DAYLIGHT
BEGIN:STANDARD
TZOFFSETFROM:+0100
TZOFFSETTO:+0000
TZNAME:GMT
DTSTART:20241027T020000Z
RRULE:FREQ=YEARLY;BYMONTH=10;BYDAY=-1SU
END:STANDARD
END:VTIMEZONE
BEGIN:VEVENT
SUMMARY:The Drew Barrymore Show 4x128 - Cyndi Lauper
DTSTAMP:20240427T025629Z
SEQUENCE:0
UID:179626-2-841ebed20eb198c4569419e99b7bf40a@themidnightzone.com
ORGANIZER;CN="Midnight":midnight@themidnightzone.com
DESCRIPTION:Drew is chatting with Cyndi Lauper about her iconic career\,
	filming the documentary \"The Greatest Night in Pop\" aboutrecording \"We 
	Are the World\" and working on her upcomingBroadway show. Drew and Ross M
	athews are at the Drew's Newshitting headlines like the study that shows n
	ature can regulateour sense of time and the race in Paris that challenged 
	serversto run while holding a tray. Drew and Ross are sharing theirfavorit
	e picks for the weekend including books like \"DearRebel\" sharing advice 
	for modern women and the best electricscalp massager to help relax. 
DTSTART:20240503T040000Z
DTEND:20240503T050000Z
END:VEVENT
END:VCALENDAR
