BEGIN:VCALENDAR
VERSION:2.0
PRODID:-//InvisionCommunity Events 4.7.23//EN
METHOD:PUBLISH
CALSCALE:GREGORIAN
REFRESH-INTERVAL:PT15M
X-PUBLISHED-TTL:PT15M
X-WR-CALNAME:At My TV
NAME:At My TV
BEGIN:VTIMEZONE
TZID:Europe/London
TZURL:http://tzurl.org/zoneinfo/Europe/London
X-LIC-LOCATION:Europe/London
BEGIN:DAYLIGHT
TZOFFSETFROM:+0000
TZOFFSETTO:+0100
TZNAME:BST
DTSTART:20240331T020000Z
RRULE:FREQ=YEARLY;BYMONTH=3;BYDAY=-1SU
END:DAYLIGHT
BEGIN:STANDARD
TZOFFSETFROM:+0100
TZOFFSETTO:+0000
TZNAME:GMT
DTSTART:20241027T020000Z
RRULE:FREQ=YEARLY;BYMONTH=10;BYDAY=-1SU
END:STANDARD
END:VTIMEZONE
BEGIN:VEVENT
SUMMARY:The Drew Barrymore Show 4x127 - Madelaine Petsch\, Huey Lewi
	s\,Drew Afualo
DTSTAMP:20240427T025629Z
SEQUENCE:0
UID:179636-2-841ebed20eb198c4569419e99b7bf40a@themidnightzone.com
ORGANIZER;CN="Midnight":midnight@themidnightzone.com
DESCRIPTION:Drew and Ross Mathews are covering the news sunny-side up wi
	th\"The Heart of Rock and Roll\" star Huey Lewis who chats abouthaving his
	 music celebrated on Broadway\, his experience withhearing loss and sharin
	g behind-the-scenes memories from whenhe recorded the iconic song \"We Are
	 the World.\" TikTok starand author of \"Loud: Accept Nothing Less Than t
	he Life YouDeserve\" Drew Afualo is joining Drew and Ross Mathews at thene
	ws desk to cover headlines like the woman who went viral forrefusing to co
	ok dinner for her husband after he wouldn't hehelp wash dishes. Drew is ch
	atting with \"The Strangers\" starMadelaine Petsch about her exciting new 
	film\, how she feelsabout \"Riverdale\" ending and her go to beauty routin
	e. 
DTSTART:20240501T040000Z
DTEND:20240501T050000Z
END:VEVENT
END:VCALENDAR
