BEGIN:VCALENDAR
VERSION:2.0
PRODID:-//InvisionCommunity Events 4.7.23//EN
METHOD:PUBLISH
CALSCALE:GREGORIAN
REFRESH-INTERVAL:PT15M
X-PUBLISHED-TTL:PT15M
X-WR-CALNAME:At My TV
NAME:At My TV
BEGIN:VTIMEZONE
TZID:Europe/London
TZURL:http://tzurl.org/zoneinfo/Europe/London
X-LIC-LOCATION:Europe/London
BEGIN:DAYLIGHT
TZOFFSETFROM:+0000
TZOFFSETTO:+0100
TZNAME:BST
DTSTART:20240331T020000Z
RRULE:FREQ=YEARLY;BYMONTH=3;BYDAY=-1SU
END:DAYLIGHT
BEGIN:STANDARD
TZOFFSETFROM:+0100
TZOFFSETTO:+0000
TZNAME:GMT
DTSTART:20241027T020000Z
RRULE:FREQ=YEARLY;BYMONTH=10;BYDAY=-1SU
END:STANDARD
END:VTIMEZONE
BEGIN:VEVENT
SUMMARY:So You Think You Can Dance 18x9 - Challenge #5: Brand Challe
	nge
DTSTAMP:20240430T105629Z
SEQUENCE:0
UID:179765-2-841ebed20eb198c4569419e99b7bf40a@themidnightzone.com
ORGANIZER;CN="Midnight":midnight@themidnightzone.com
DESCRIPTION:The competition continues as the top four dancers take on ab
	rand challenge. This week the dancers will take on abrand-themed dance cha
	llenge choreographed by Hi-Hat featuringSYTYCD All-Star\, Emmy-nominated c
	horeographer and professionaldancer\, Witney Carson. Who will rise to the 
	challenge andremain on the show? This week all four dancers will have toda
	nce for their lives\, and someone will be eliminated beforenext week's sea
	son finale where one person will win 0\,000and be crowned the winner of So
	 You Think You Can Dance.\n\n\n\n 
DTSTART:20240514T010000Z
DTEND:20240514T020000Z
END:VEVENT
END:VCALENDAR
