BEGIN:VCALENDAR
VERSION:2.0
PRODID:-//InvisionCommunity Events 4.7.23//EN
METHOD:PUBLISH
CALSCALE:GREGORIAN
REFRESH-INTERVAL:PT15M
X-PUBLISHED-TTL:PT15M
X-WR-CALNAME:At My TV
NAME:At My TV
BEGIN:VTIMEZONE
TZID:Europe/London
TZURL:http://tzurl.org/zoneinfo/Europe/London
X-LIC-LOCATION:Europe/London
BEGIN:DAYLIGHT
TZOFFSETFROM:+0000
TZOFFSETTO:+0100
TZNAME:BST
DTSTART:20240331T020000Z
RRULE:FREQ=YEARLY;BYMONTH=3;BYDAY=-1SU
END:DAYLIGHT
BEGIN:STANDARD
TZOFFSETFROM:+0100
TZOFFSETTO:+0000
TZNAME:GMT
DTSTART:20241027T020000Z
RRULE:FREQ=YEARLY;BYMONTH=10;BYDAY=-1SU
END:STANDARD
END:VTIMEZONE
BEGIN:VEVENT
SUMMARY:MasterChef 20x17 - Episode 17
DTSTAMP:20240501T025628Z
SEQUENCE:0
UID:179774-2-841ebed20eb198c4569419e99b7bf40a@themidnightzone.com
ORGANIZER;CN="Midnight":midnight@themidnightzone.com
DESCRIPTION:Knockout Week continues\, and the second group of eightremai
	ning amateurs return to MasterChef for the opportunity ofa lifetime – th
	e chance to cook in their first professionalkitchen. To get there\, they w
	ill need to dig into theirrepertoire for some killer culinary ideas\, as t
	heir first taskis a daunting Invention Test. The larder is open for busine
	sswith some stunning fish\, poultry\, meat and veg ready to bescooped up a
	nd turned into something outrageously good. Thethree who impress the least
	 will lose out on the ultimateculinary adventure.The five who manage to ke
	ep it together andwin the judges over will head off into unfamiliar territ
	ory asthey get their first taste of life as a professional chef. Thesucces
	sful five will earn their stripes at Joia restaurant\,which overlooks Batt
	ersea Power Station. Under the watchful eyeof Portuguese head chef Jose Ja
	ra\, it will take every ounce offocus for the competitors to impress diner
	s with dishes thatcelebrate the food of Jose's cultural roots.John and Gre
	gg willbe keeping a close eye from the dining room and hoping thecooks can
	 knock it out the park. At this stage of the game\,any mistakes could come
	 back to haunt them as the race for theMasterChef 2024 trophy forges on.
DTSTART:20240508T190000Z
DTEND:20240508T194100Z
END:VEVENT
END:VCALENDAR
