BEGIN:VCALENDAR
VERSION:2.0
PRODID:-//InvisionCommunity Events 4.7.23//EN
METHOD:PUBLISH
CALSCALE:GREGORIAN
REFRESH-INTERVAL:PT15M
X-PUBLISHED-TTL:PT15M
X-WR-CALNAME:At My TV
NAME:At My TV
BEGIN:VTIMEZONE
TZID:Europe/London
TZURL:http://tzurl.org/zoneinfo/Europe/London
X-LIC-LOCATION:Europe/London
BEGIN:DAYLIGHT
TZOFFSETFROM:+0000
TZOFFSETTO:+0100
TZNAME:BST
DTSTART:20240331T020000Z
RRULE:FREQ=YEARLY;BYMONTH=3;BYDAY=-1SU
END:DAYLIGHT
BEGIN:STANDARD
TZOFFSETFROM:+0100
TZOFFSETTO:+0000
TZNAME:GMT
DTSTART:20241027T020000Z
RRULE:FREQ=YEARLY;BYMONTH=10;BYDAY=-1SU
END:STANDARD
END:VTIMEZONE
BEGIN:VEVENT
SUMMARY:Pretty Little Liars: Original Sin 2x3 - Chapter Thirteen: Sw
	eetSixteen
DTSTAMP:20240502T105627Z
SEQUENCE:0
UID:179924-2-841ebed20eb198c4569419e99b7bf40a@themidnightzone.com
ORGANIZER;CN="Midnight":midnight@themidnightzone.com
DESCRIPTION:When their identities are revealed online\, the PLLs scrambl
	eto figure out who is behind a series of anonymous calls – andkeep Mouse
	's surprise birthday party under wraps. As the nightof the party nears\, T
	abby uncovers an unsettling secret inChristian's basement\, Imogen calls o
	ut her new coworker\, Noaclashes with Jen\, and Faran finally spills her s
	ecret.
DTSTART:20240516T040000Z
DTEND:20240516T045100Z
END:VEVENT
END:VCALENDAR
