BEGIN:VCALENDAR
VERSION:2.0
PRODID:-//InvisionCommunity Events 4.7.23//EN
METHOD:PUBLISH
CALSCALE:GREGORIAN
REFRESH-INTERVAL:PT15M
X-PUBLISHED-TTL:PT15M
X-WR-CALNAME:At My TV
NAME:At My TV
BEGIN:VTIMEZONE
TZID:Europe/London
TZURL:http://tzurl.org/zoneinfo/Europe/London
X-LIC-LOCATION:Europe/London
BEGIN:DAYLIGHT
TZOFFSETFROM:+0000
TZOFFSETTO:+0100
TZNAME:BST
DTSTART:20240331T020000Z
RRULE:FREQ=YEARLY;BYMONTH=3;BYDAY=-1SU
END:DAYLIGHT
BEGIN:STANDARD
TZOFFSETFROM:+0100
TZOFFSETTO:+0000
TZNAME:GMT
DTSTART:20241027T020000Z
RRULE:FREQ=YEARLY;BYMONTH=10;BYDAY=-1SU
END:STANDARD
END:VTIMEZONE
BEGIN:VEVENT
SUMMARY:60 Minutes 56x30 - A Week in Israel | A Web of Intrigue
DTSTAMP:20240503T025627Z
SEQUENCE:0
UID:179942-2-841ebed20eb198c4569419e99b7bf40a@themidnightzone.com
ORGANIZER;CN="Midnight":midnight@themidnightzone.com
DESCRIPTION:A Week in Israel – Reporting from Israel\, correspondentLe
	sley Stahl delivers the latest on the consequential threefronts where the 
	country is currently engaged that haveheightened security threats internat
	ionally since the Oct. 7\,2023\, terror attacks: Gaza in the south\, Hezbo
	llah in thenorth and Iran in the east. Shachar Bar-On and Jinsol Jung aret
	he producers.A Web of Intrigue – As Spain fights for theextradition of a
	 former U.S. Marine\, claiming he broke intothe North Korean embassy in Ma
	drid\, correspondent SharynAlfonsi interviews the man at the center: Chris
	topher Ahn. Ahnsays the goal of the 2019 mission was to free the North Kor
	eansworking in the embassy. He details the legal hurdles he's nowfacing at
	 home and abroad as the FBI warns his life is indanger. This is a double-l
	ength segment. Draggan Mihailovichand Jacqueline Williams are the producer
	s.
DTSTART:20240512T230000Z
DTEND:20240513T000000Z
END:VEVENT
END:VCALENDAR
