BEGIN:VCALENDAR
VERSION:2.0
PRODID:-//InvisionCommunity Events 4.7.23//EN
METHOD:PUBLISH
CALSCALE:GREGORIAN
REFRESH-INTERVAL:PT15M
X-PUBLISHED-TTL:PT15M
X-WR-CALNAME:At My TV
NAME:At My TV
BEGIN:VTIMEZONE
TZID:Europe/London
TZURL:http://tzurl.org/zoneinfo/Europe/London
X-LIC-LOCATION:Europe/London
BEGIN:DAYLIGHT
TZOFFSETFROM:+0000
TZOFFSETTO:+0100
TZNAME:BST
DTSTART:20240331T020000Z
RRULE:FREQ=YEARLY;BYMONTH=3;BYDAY=-1SU
END:DAYLIGHT
BEGIN:STANDARD
TZOFFSETFROM:+0100
TZOFFSETTO:+0000
TZNAME:GMT
DTSTART:20241027T020000Z
RRULE:FREQ=YEARLY;BYMONTH=10;BYDAY=-1SU
END:STANDARD
END:VTIMEZONE
BEGIN:VEVENT
SUMMARY:The Jennifer Hudson Show 2x147 - Sherri Shepherd
DTSTAMP:20240504T025627Z
SEQUENCE:0
UID:179999-2-841ebed20eb198c4569419e99b7bf40a@themidnightzone.com
ORGANIZER;CN="Midnight":midnight@themidnightzone.com
DESCRIPTION:The multi-talented Sherri Shepherd\, star of \"Sherri\,\" is
	 inthe studio.Jennifer then welcomes Autumn Goodman\, a teacherfrom Rollin
	g Hills Elementary in Orlando\, Florida.Autumn hasgarnered 5.7 million lik
	es on TikTok\, frequently going viralfor her \"Day in the Life of an Art T
	eacher\" vlogs. She workswith many students from challenging home environm
	ents andbelieves that art serves as an equalizer\, opening up entirelynew 
	worlds for them. Despite the challenges of limited fundingand the high cos
	t of art supplies\, Autumn often pays out ofpocket to provide for her clas
	sroom.
DTSTART:20240509T150000Z
DTEND:20240509T160000Z
END:VEVENT
END:VCALENDAR
