BEGIN:VCALENDAR
VERSION:2.0
PRODID:-//InvisionCommunity Events 4.7.23//EN
METHOD:PUBLISH
CALSCALE:GREGORIAN
REFRESH-INTERVAL:PT15M
X-PUBLISHED-TTL:PT15M
X-WR-CALNAME:At My TV
NAME:At My TV
BEGIN:VTIMEZONE
TZID:Europe/London
TZURL:http://tzurl.org/zoneinfo/Europe/London
X-LIC-LOCATION:Europe/London
BEGIN:DAYLIGHT
TZOFFSETFROM:+0000
TZOFFSETTO:+0100
TZNAME:BST
DTSTART:20240331T020000Z
RRULE:FREQ=YEARLY;BYMONTH=3;BYDAY=-1SU
END:DAYLIGHT
BEGIN:STANDARD
TZOFFSETFROM:+0100
TZOFFSETTO:+0000
TZNAME:GMT
DTSTART:20241027T020000Z
RRULE:FREQ=YEARLY;BYMONTH=10;BYDAY=-1SU
END:STANDARD
END:VTIMEZONE
BEGIN:VEVENT
SUMMARY:The Kelly Clarkson Show 5x132 - Jeff Daniels\, HannahEinbind
	er\, John Green\, Hannah Marks\, Lauren & Seth Rogen
DTSTAMP:20240504T025627Z
SEQUENCE:0
UID:180026-2-841ebed20eb198c4569419e99b7bf40a@themidnightzone.com
ORGANIZER;CN="Midnight":midnight@themidnightzone.com
DESCRIPTION:Kellyoke: \"Sad but True\": \"Dear Mom\" surprise: Jeff Dani
	els:Hannah Einbinder\; John Green and Hannah Marks (\"Turtles Allthe Way D
	own\")\; bargains and deals with Lawrence Zarian andMorningSave\; Lauren a
	nd Seth Rogen.
DTSTART:20240506T040000Z
DTEND:20240506T050000Z
END:VEVENT
END:VCALENDAR
