BEGIN:VCALENDAR
VERSION:2.0
PRODID:-//InvisionCommunity Events 4.7.23//EN
METHOD:PUBLISH
CALSCALE:GREGORIAN
REFRESH-INTERVAL:PT15M
X-PUBLISHED-TTL:PT15M
X-WR-CALNAME:At My TV
NAME:At My TV
BEGIN:VTIMEZONE
TZID:Europe/London
TZURL:http://tzurl.org/zoneinfo/Europe/London
X-LIC-LOCATION:Europe/London
BEGIN:DAYLIGHT
TZOFFSETFROM:+0000
TZOFFSETTO:+0100
TZNAME:BST
DTSTART:20240331T020000Z
RRULE:FREQ=YEARLY;BYMONTH=3;BYDAY=-1SU
END:DAYLIGHT
BEGIN:STANDARD
TZOFFSETFROM:+0100
TZOFFSETTO:+0000
TZNAME:GMT
DTSTART:20241027T020000Z
RRULE:FREQ=YEARLY;BYMONTH=10;BYDAY=-1SU
END:STANDARD
END:VTIMEZONE
BEGIN:VEVENT
SUMMARY:The Proof Is Out There: Military Mysteries 1x3 - The Curious
	Case of Major Logan\; The Lost Cosmonaut\; BattleshipExplosion\; Dolphins 
	Secret Weapons
DTSTAMP:20240505T025627Z
SEQUENCE:0
UID:180066-2-841ebed20eb198c4569419e99b7bf40a@themidnightzone.com
ORGANIZER;CN="Midnight":midnight@themidnightzone.com
DESCRIPTION:What really happened to a Korean War pilot from the U.S. Air
	Force who vanished without a trace? Is a bizarre recordingevidence that th
	e Russians covered up the macabre death ofhistory's first female cosmonaut
	? What caused a WW2 battleshipto suddenly explode on camera? And\, is the 
	U.S. trainingdolphins... to kill? Veterans Rudy Reyes and Ronnie Adkinsbre
	ak down the evidence behind the most mysterious photos\,films\, and record
	ings in battlefield history.
DTSTART:20240507T020300Z
DTEND:20240507T030300Z
END:VEVENT
END:VCALENDAR
