BEGIN:VCALENDAR
VERSION:2.0
PRODID:-//InvisionCommunity Events 4.7.23//EN
METHOD:PUBLISH
CALSCALE:GREGORIAN
REFRESH-INTERVAL:PT15M
X-PUBLISHED-TTL:PT15M
X-WR-CALNAME:At My TV
NAME:At My TV
BEGIN:VTIMEZONE
TZID:Europe/London
TZURL:http://tzurl.org/zoneinfo/Europe/London
X-LIC-LOCATION:Europe/London
BEGIN:DAYLIGHT
TZOFFSETFROM:+0000
TZOFFSETTO:+0100
TZNAME:BST
DTSTART:20240331T020000Z
RRULE:FREQ=YEARLY;BYMONTH=3;BYDAY=-1SU
END:DAYLIGHT
BEGIN:STANDARD
TZOFFSETFROM:+0100
TZOFFSETTO:+0000
TZNAME:GMT
DTSTART:20241027T020000Z
RRULE:FREQ=YEARLY;BYMONTH=10;BYDAY=-1SU
END:STANDARD
END:VTIMEZONE
BEGIN:VEVENT
SUMMARY:The Motorway Cops: Catching Britain's Speeders 5x6 - Episode
	 6
DTSTAMP:20240508T025626Z
SEQUENCE:0
UID:180200-2-841ebed20eb198c4569419e99b7bf40a@themidnightzone.com
ORGANIZER;CN="Midnight":midnight@themidnightzone.com
DESCRIPTION:PCs Andy Jackson and Andy Clarke deal with a man who has abr
	ake light out\, only to be rudely interrupted by a shoutyRange Rover drive
	r wanting to get noticed. But he could live toregret his outburst when a b
	ackground check reveals he has noinsurance. The officers catch up with the
	 outspoken driver\,who proves his has no intention of coming quietly\, thr
	owing astring of insults at officers and barely letting them get aword in 
	edge ways. But the police have the last laugh when thechatty driver is for
	ced to head home on foot.\n\n\n\nOn theoutskirts of Sunderland\, PC Martai
	n Anderson races to ashocking hit and run. A Ford Fiesta has ploughed into
	 anothercar at high speed\, sending it spinning and leaving the elderlydri
	ver with serious head injuries. To make matter worse\, theoccupants of the
	 Fiesta flee the scene. But the crash has beencaptured on CCTV\, showing t
	he terrifying moment ofimpact.\n\n\n\nIt's late at night in Northumberland
	 and PC JanSimlesa is on the hunt for a van reported to be used in palleta
	nd petrol thefts. When he finally tracks it down\, the driverclaims he's l
	egit. But some detective work from Jan revealsthat he shouldn't be on the 
	road in the first place. Jandelivers the news that the van will be seized\
	, and the driverdoesn't disguise his annoyance.
DTSTART:20240520T190000Z
DTEND:20240520T200000Z
END:VEVENT
END:VCALENDAR
