BEGIN:VCALENDAR
VERSION:2.0
PRODID:-//InvisionCommunity Events 4.7.23//EN
METHOD:PUBLISH
CALSCALE:GREGORIAN
REFRESH-INTERVAL:PT15M
X-PUBLISHED-TTL:PT15M
X-WR-CALNAME:At My TV
NAME:At My TV
BEGIN:VTIMEZONE
TZID:Europe/London
TZURL:http://tzurl.org/zoneinfo/Europe/London
X-LIC-LOCATION:Europe/London
BEGIN:DAYLIGHT
TZOFFSETFROM:+0000
TZOFFSETTO:+0100
TZNAME:BST
DTSTART:20240331T020000Z
RRULE:FREQ=YEARLY;BYMONTH=3;BYDAY=-1SU
END:DAYLIGHT
BEGIN:STANDARD
TZOFFSETFROM:+0100
TZOFFSETTO:+0000
TZNAME:GMT
DTSTART:20241027T020000Z
RRULE:FREQ=YEARLY;BYMONTH=10;BYDAY=-1SU
END:STANDARD
END:VTIMEZONE
BEGIN:VEVENT
SUMMARY:Marvel Studios: Assembled 2x7 - The Making of X-Men '97
DTSTAMP:20240508T105626Z
SEQUENCE:0
UID:180229-2-841ebed20eb198c4569419e99b7bf40a@themidnightzone.com
ORGANIZER;CN="Midnight":midnight@themidnightzone.com
DESCRIPTION:In the early 1990s\, few beyond those who journeyed into the
	pages of Marvel comics had ever heard of \"Rogue\,\" \"Beast\,\"\"Gambit\,
	\" or even \"Wolverine.\" But that sad state of affairschanged forever whe
	n \"X-Men: The Animated Series\" debuted ontelevision and touched millions
	 hungry for something different.The series was unlike any cartoon that had
	 come before it\,exploring themes of prejudice and social justice. Thechar
	acters were super\, but they were also outsiders\,underdogs. Kids everywhe
	re could relate – as well as adults.\"Assembled\" recalls the birth of \
	"X-Men: The Animated Series\"and its revival thirty years later as \"X-Men
	 '97.\" Spend timewith the original cast members\, along with new voices\,
	 asthey reveal the stories behind the classic show and itsuncompromising c
	ontinuation.
DTSTART:20240522T040000Z
DTEND:20240522T045700Z
END:VEVENT
END:VCALENDAR
