BEGIN:VCALENDAR
VERSION:2.0
PRODID:-//InvisionCommunity Events 4.7.23//EN
METHOD:PUBLISH
CALSCALE:GREGORIAN
REFRESH-INTERVAL:PT15M
X-PUBLISHED-TTL:PT15M
X-WR-CALNAME:At My TV
NAME:At My TV
BEGIN:VTIMEZONE
TZID:Europe/London
TZURL:http://tzurl.org/zoneinfo/Europe/London
X-LIC-LOCATION:Europe/London
BEGIN:DAYLIGHT
TZOFFSETFROM:+0000
TZOFFSETTO:+0100
TZNAME:BST
DTSTART:20240331T020000Z
RRULE:FREQ=YEARLY;BYMONTH=3;BYDAY=-1SU
END:DAYLIGHT
BEGIN:STANDARD
TZOFFSETFROM:+0100
TZOFFSETTO:+0000
TZNAME:GMT
DTSTART:20241027T020000Z
RRULE:FREQ=YEARLY;BYMONTH=10;BYDAY=-1SU
END:STANDARD
END:VTIMEZONE
BEGIN:VEVENT
SUMMARY:The Drew Barrymore Show 4x138 - Will Forte\, Kristina Zias\,
	Pilar Valdes
DTSTAMP:20240511T025625Z
SEQUENCE:0
UID:180390-2-841ebed20eb198c4569419e99b7bf40a@themidnightzone.com
ORGANIZER;CN="Midnight":midnight@themidnightzone.com
DESCRIPTION:\"Bodkin\" star Will Forte is telling Drew all about his new
	show. Fashion expert Kristina Zias is joining Drew and RossMathews at the 
	news desk to cover today's hottestheadlines. Drew and Ross Mathews are at
	 the news desk servingthe news sunny-side up. Pilar Valdes has another pro
	 tip forDrew in the kitchen\, this time from NYC hotspot Zou Zou's. 
DTSTART:20240517T040000Z
DTEND:20240517T050000Z
END:VEVENT
END:VCALENDAR
