BEGIN:VCALENDAR
VERSION:2.0
PRODID:-//InvisionCommunity Events 4.7.23//EN
METHOD:PUBLISH
CALSCALE:GREGORIAN
REFRESH-INTERVAL:PT15M
X-PUBLISHED-TTL:PT15M
X-WR-CALNAME:At My TV
NAME:At My TV
BEGIN:VTIMEZONE
TZID:Europe/London
TZURL:http://tzurl.org/zoneinfo/Europe/London
X-LIC-LOCATION:Europe/London
BEGIN:DAYLIGHT
TZOFFSETFROM:+0000
TZOFFSETTO:+0100
TZNAME:BST
DTSTART:20240331T020000Z
RRULE:FREQ=YEARLY;BYMONTH=3;BYDAY=-1SU
END:DAYLIGHT
BEGIN:STANDARD
TZOFFSETFROM:+0100
TZOFFSETTO:+0000
TZNAME:GMT
DTSTART:20241027T020000Z
RRULE:FREQ=YEARLY;BYMONTH=10;BYDAY=-1SU
END:STANDARD
END:VTIMEZONE
BEGIN:VEVENT
SUMMARY:Tamron Hall 5x159 - Total Transformations
DTSTAMP:20240511T025625Z
SEQUENCE:0
UID:180391-2-841ebed20eb198c4569419e99b7bf40a@themidnightzone.com
ORGANIZER;CN="Midnight":midnight@themidnightzone.com
DESCRIPTION:Today\, we are talking to guests who are giving and livingtr
	ansformations. Kicking off the conversation\, DR. SHARONGIESE\, a pioneer 
	in plastic surgery\, will share her signatureprocedures with the Tam Fam! 
	Then\, world-renowned celebritysurgeon DR. DEEPAK DUGAR discusses the popu
	larity of scarlessnose surgery. And\, the multitalented TREVOR JACKSON dis
	cusseshis career transformation\, from his role in \"grown-ish\" totransit
	ioning into a successful solo music career. He is hereto perform a medley 
	of two new songs\, \"Heads Up\" and \"He Don'tKnow.\"
DTSTART:20240517T040000Z
DTEND:20240517T050000Z
END:VEVENT
END:VCALENDAR
