BEGIN:VCALENDAR
VERSION:2.0
PRODID:-//InvisionCommunity Events 4.7.23//EN
METHOD:PUBLISH
CALSCALE:GREGORIAN
REFRESH-INTERVAL:PT15M
X-PUBLISHED-TTL:PT15M
X-WR-CALNAME:At My TV
NAME:At My TV
BEGIN:VTIMEZONE
TZID:Europe/London
TZURL:http://tzurl.org/zoneinfo/Europe/London
X-LIC-LOCATION:Europe/London
BEGIN:DAYLIGHT
TZOFFSETFROM:+0000
TZOFFSETTO:+0100
TZNAME:BST
DTSTART:20240331T020000Z
RRULE:FREQ=YEARLY;BYMONTH=3;BYDAY=-1SU
END:DAYLIGHT
BEGIN:STANDARD
TZOFFSETFROM:+0100
TZOFFSETTO:+0000
TZNAME:GMT
DTSTART:20241027T020000Z
RRULE:FREQ=YEARLY;BYMONTH=10;BYDAY=-1SU
END:STANDARD
END:VTIMEZONE
BEGIN:VEVENT
SUMMARY:The Drew Barrymore Show 4x135 - Jennifer Connelly\, PilarVal
	des
DTSTAMP:20240511T025625Z
SEQUENCE:0
UID:180414-2-841ebed20eb198c4569419e99b7bf40a@themidnightzone.com
ORGANIZER;CN="Midnight":midnight@themidnightzone.com
DESCRIPTION:Drew and Ross Mathews are covering the headlines including t
	hewoman who accidentally invited her entire contacts list to herkid's birt
	hday party and the new condiment-flavored ice creams.\"Dark Matter\" star 
	Jennifer Connelly is telling Drew all aboutworking on her new show and pla
	ying a round ofbehind-the-scenes to dish on some of her iconic roles like 
	\"ABeautiful Mind\" and \"Top Gun: Maverick.\" Drew and Ross Mathewsare c
	overing trending stories like the new health habittrending and the univers
	ity in Japan that found a healthystrategy for reducing anger. Then\, Drew-
	crewer Pilar Valdes istelling Drew about exploring the Italian restaurants
	 on ArthurAve in the Bronx and the amazing local stores she found. 
DTSTART:20240514T040000Z
DTEND:20240514T050000Z
END:VEVENT
END:VCALENDAR
