BEGIN:VCALENDAR
VERSION:2.0
PRODID:-//InvisionCommunity Events 4.7.23//EN
METHOD:PUBLISH
CALSCALE:GREGORIAN
REFRESH-INTERVAL:PT15M
X-PUBLISHED-TTL:PT15M
X-WR-CALNAME:At My TV
NAME:At My TV
BEGIN:VTIMEZONE
TZID:Europe/London
TZURL:http://tzurl.org/zoneinfo/Europe/London
X-LIC-LOCATION:Europe/London
BEGIN:DAYLIGHT
TZOFFSETFROM:+0000
TZOFFSETTO:+0100
TZNAME:BST
DTSTART:20240331T020000Z
RRULE:FREQ=YEARLY;BYMONTH=3;BYDAY=-1SU
END:DAYLIGHT
BEGIN:STANDARD
TZOFFSETFROM:+0100
TZOFFSETTO:+0000
TZNAME:GMT
DTSTART:20241027T020000Z
RRULE:FREQ=YEARLY;BYMONTH=10;BYDAY=-1SU
END:STANDARD
END:VTIMEZONE
BEGIN:VEVENT
SUMMARY:The Drew Barrymore Show 4x134 - Bella Hadid
DTSTAMP:20240511T025625Z
SEQUENCE:0
UID:180421-2-841ebed20eb198c4569419e99b7bf40a@themidnightzone.com
ORGANIZER;CN="Midnight":midnight@themidnightzone.com
DESCRIPTION:Bella Hadid is making her first-ever television appearance a
	ndtelling Drew all about her new fragrance line Ôrəbella. She'salso tell
	ing Drew all about taking a break from modeling\,moving somewhere new\, he
	r relationship with sister Gigi andmore! Drew is having an open and hones
	t conversation with hertherapist Dr. Barry Michels and they're talking abo
	ut when theyfirst started working together\, why he quit seeing her becaus
	eof her drinking and his approach to therapy. He's also talkingabout his b
	ook \"The Tools\" and is helping audience members withsome of the techniqu
	es that he recommends for conqueringconcerns. 
DTSTART:20240513T040000Z
DTEND:20240513T050000Z
END:VEVENT
END:VCALENDAR
