BEGIN:VCALENDAR
VERSION:2.0
PRODID:-//InvisionCommunity Events 4.7.23//EN
METHOD:PUBLISH
CALSCALE:GREGORIAN
REFRESH-INTERVAL:PT15M
X-PUBLISHED-TTL:PT15M
X-WR-CALNAME:At My TV
NAME:At My TV
BEGIN:VTIMEZONE
TZID:Europe/London
TZURL:http://tzurl.org/zoneinfo/Europe/London
X-LIC-LOCATION:Europe/London
BEGIN:DAYLIGHT
TZOFFSETFROM:+0000
TZOFFSETTO:+0100
TZNAME:BST
DTSTART:20240331T020000Z
RRULE:FREQ=YEARLY;BYMONTH=3;BYDAY=-1SU
END:DAYLIGHT
BEGIN:STANDARD
TZOFFSETFROM:+0100
TZOFFSETTO:+0000
TZNAME:GMT
DTSTART:20241027T020000Z
RRULE:FREQ=YEARLY;BYMONTH=10;BYDAY=-1SU
END:STANDARD
END:VTIMEZONE
BEGIN:VEVENT
SUMMARY:The Kitchen 36x12 - Family-Style Brunch
DTSTAMP:20240512T025624Z
SEQUENCE:0
UID:180447-2-841ebed20eb198c4569419e99b7bf40a@themidnightzone.com
ORGANIZER;CN="Midnight":midnight@themidnightzone.com
DESCRIPTION:The Kitchen crew celebrates the most important meal of the d
	aywith a family-style brunch! Jeff Mauro makes a fun and tastyDouble Decke
	r Monte Cristo\, while Katie Lee Biegel tosses up afresh and flavorful Spi
	nach Salad with Grilled Chicken andPickled Strawberries. Then\, Sunny Ande
	rson's Baked TurmericOatmeal is sure to satisfy\, and Geoffrey Zakarian bl
	ends up afamily staple\, Margaret's Favorite Smoothie with HomemadeAlmond 
	Milk.
DTSTART:20240511T150000Z
DTEND:20240511T160000Z
END:VEVENT
END:VCALENDAR
