BEGIN:VCALENDAR
VERSION:2.0
PRODID:-//InvisionCommunity Events 4.7.23//EN
METHOD:PUBLISH
CALSCALE:GREGORIAN
REFRESH-INTERVAL:PT15M
X-PUBLISHED-TTL:PT15M
X-WR-CALNAME:At My TV
NAME:At My TV
BEGIN:VTIMEZONE
TZID:Europe/London
TZURL:http://tzurl.org/zoneinfo/Europe/London
X-LIC-LOCATION:Europe/London
BEGIN:DAYLIGHT
TZOFFSETFROM:+0000
TZOFFSETTO:+0100
TZNAME:BST
DTSTART:20240331T020000Z
RRULE:FREQ=YEARLY;BYMONTH=3;BYDAY=-1SU
END:DAYLIGHT
BEGIN:STANDARD
TZOFFSETFROM:+0100
TZOFFSETTO:+0000
TZNAME:GMT
DTSTART:20241027T020000Z
RRULE:FREQ=YEARLY;BYMONTH=10;BYDAY=-1SU
END:STANDARD
END:VTIMEZONE
BEGIN:VEVENT
SUMMARY:Gruen 16x2 - Hubbl Glass\, Michael Hill & Smiths Crisps
DTSTAMP:20240513T025624Z
SEQUENCE:0
UID:180457-2-841ebed20eb198c4569419e99b7bf40a@themidnightzone.com
ORGANIZER;CN="Midnight":midnight@themidnightzone.com
DESCRIPTION:Hubbl &amp\;amp: Andy prove a Hubbler's work is never throug
	h\,Michael Hill goes from shoppingtown to tinseltown &amp\; SmithsChips re
	lease a pack of dogs. Wil is joined by Todd Sampson\,Lauren Zonfrillo\, Li
	ana Rossi and Russel Howcroft.
DTSTART:20240522T103000Z
DTEND:20240522T110500Z
END:VEVENT
END:VCALENDAR
