BEGIN:VCALENDAR
VERSION:2.0
PRODID:-//InvisionCommunity Events 4.7.23//EN
METHOD:PUBLISH
CALSCALE:GREGORIAN
REFRESH-INTERVAL:PT15M
X-PUBLISHED-TTL:PT15M
X-WR-CALNAME:At My TV
NAME:At My TV
BEGIN:VTIMEZONE
TZID:Europe/London
TZURL:http://tzurl.org/zoneinfo/Europe/London
X-LIC-LOCATION:Europe/London
BEGIN:DAYLIGHT
TZOFFSETFROM:+0000
TZOFFSETTO:+0100
TZNAME:BST
DTSTART:20240331T020000Z
RRULE:FREQ=YEARLY;BYMONTH=3;BYDAY=-1SU
END:DAYLIGHT
BEGIN:STANDARD
TZOFFSETFROM:+0100
TZOFFSETTO:+0000
TZNAME:GMT
DTSTART:20241027T020000Z
RRULE:FREQ=YEARLY;BYMONTH=10;BYDAY=-1SU
END:STANDARD
END:VTIMEZONE
BEGIN:VEVENT
SUMMARY:Gordon Ramsay's Food Stars 2x3 - Bar Wars
DTSTAMP:20240523T105621Z
SEQUENCE:0
UID:180897-2-841ebed20eb198c4569419e99b7bf40a@themidnightzone.com
ORGANIZER;CN="Midnight":midnight@themidnightzone.com
DESCRIPTION:Teams Ramsay and Vanderpump are challenged to create uniquec
	oncept bars that stand out in a crowded market. From curatingthe cocktail 
	menu to choosing the decor\, the entrepreneursmust create an immersive exp
	erience that will be judged purelyon customer feedback. Then\, one member 
	of the losing team iseliminated from the competition\n\n\n\n 
DTSTART:20240606T010000Z
DTEND:20240606T020000Z
END:VEVENT
END:VCALENDAR
