BEGIN:VCALENDAR
VERSION:2.0
PRODID:-//InvisionCommunity Events 4.7.23//EN
METHOD:PUBLISH
CALSCALE:GREGORIAN
REFRESH-INTERVAL:PT15M
X-PUBLISHED-TTL:PT15M
X-WR-CALNAME:At My TV
NAME:At My TV
BEGIN:VTIMEZONE
TZID:Europe/London
TZURL:http://tzurl.org/zoneinfo/Europe/London
X-LIC-LOCATION:Europe/London
BEGIN:DAYLIGHT
TZOFFSETFROM:+0000
TZOFFSETTO:+0100
TZNAME:BST
DTSTART:20240331T020000Z
RRULE:FREQ=YEARLY;BYMONTH=3;BYDAY=-1SU
END:DAYLIGHT
BEGIN:STANDARD
TZOFFSETFROM:+0100
TZOFFSETTO:+0000
TZNAME:GMT
DTSTART:20241027T020000Z
RRULE:FREQ=YEARLY;BYMONTH=10;BYDAY=-1SU
END:STANDARD
END:VTIMEZONE
BEGIN:VEVENT
SUMMARY:Tamron Hall 5x165 - Little Dreamers\, Big Dreams 3
DTSTAMP:20240525T025620Z
SEQUENCE:0
UID:180999-2-841ebed20eb198c4569419e99b7bf40a@themidnightzone.com
ORGANIZER;CN="Midnight":midnight@themidnightzone.com
DESCRIPTION:EXCLUSIVE – TikTok sensation\, 5-year-old rapper VANVAN an
	ddaughter of rapper/singer T.I. and Tiny\, 8-year-old HEIRESSHARRIS\, give
	 a show-stopping performance of their song \"BeYou\" for the first time on
	 national TV. Plus\, one of thepioneers in female rap\, MC LYTE\, joins to
	 discuss hercollaboration with the rising stars. And 8-year-old self-taugh
	tdance sensation BRODY HUDSON SCHAFFER steals the stage with hisboss dance
	 moves. Spelling Bee Champ SARV DHARAVANE takes onthe Tamron Hall Spelling
	 Bee. Then\, 7-year-old music prodigyZOË ERIANNA who went viral for her a
	bility to play a songafter hearing it once. And\, 12-year-old karate kid J
	AIDENBUSBY on receiving an adult-level black belt shows off skillsto the T
	am Fam.
DTSTART:20240527T040000Z
DTEND:20240527T050000Z
END:VEVENT
END:VCALENDAR
