BEGIN:VCALENDAR
VERSION:2.0
PRODID:-//InvisionCommunity Events 4.7.23//EN
METHOD:PUBLISH
CALSCALE:GREGORIAN
REFRESH-INTERVAL:PT15M
X-PUBLISHED-TTL:PT15M
X-WR-CALNAME:At My TV
NAME:At My TV
BEGIN:VTIMEZONE
TZID:Europe/London
TZURL:http://tzurl.org/zoneinfo/Europe/London
X-LIC-LOCATION:Europe/London
BEGIN:DAYLIGHT
TZOFFSETFROM:+0000
TZOFFSETTO:+0100
TZNAME:BST
DTSTART:20240331T020000Z
RRULE:FREQ=YEARLY;BYMONTH=3;BYDAY=-1SU
END:DAYLIGHT
BEGIN:STANDARD
TZOFFSETFROM:+0100
TZOFFSETTO:+0000
TZNAME:GMT
DTSTART:20241027T020000Z
RRULE:FREQ=YEARLY;BYMONTH=10;BYDAY=-1SU
END:STANDARD
END:VTIMEZONE
BEGIN:VEVENT
SUMMARY:Bake Off: The Professionals 7x7 - Episode 7
DTSTAMP:20240701T025608Z
SEQUENCE:0
UID:182340-2-841ebed20eb198c4569419e99b7bf40a@themidnightzone.com
ORGANIZER;CN="Midnight":midnight@themidnightzone.com
DESCRIPTION:Liam Charles and Ellie Taylor welcome back the best three te
	amsfrom each set of heats for a chocolate-fuelled pursuit to reachthe fina
	l. For their first challenge\, the chefs create twobatches of chocolate ba
	rs\, after which they must create ahanging showpiece made entirely from ch
	ocolate and delicatelysuspended from the ceiling\, inspired by a Mythical 
	Beaststheme.
DTSTART:20240701T190000Z
DTEND:20240701T200000Z
END:VEVENT
END:VCALENDAR
