BEGIN:VCALENDAR
VERSION:2.0
PRODID:-//InvisionCommunity Events 4.7.23//EN
METHOD:PUBLISH
CALSCALE:GREGORIAN
REFRESH-INTERVAL:PT15M
X-PUBLISHED-TTL:PT15M
X-WR-CALNAME:At My TV
NAME:At My TV
BEGIN:VTIMEZONE
TZID:Europe/London
TZURL:http://tzurl.org/zoneinfo/Europe/London
X-LIC-LOCATION:Europe/London
BEGIN:DAYLIGHT
TZOFFSETFROM:+0000
TZOFFSETTO:+0100
TZNAME:BST
DTSTART:20240331T020000Z
RRULE:FREQ=YEARLY;BYMONTH=3;BYDAY=-1SU
END:DAYLIGHT
BEGIN:STANDARD
TZOFFSETFROM:+0100
TZOFFSETTO:+0000
TZNAME:GMT
DTSTART:20241027T020000Z
RRULE:FREQ=YEARLY;BYMONTH=10;BYDAY=-1SU
END:STANDARD
END:VTIMEZONE
BEGIN:VEVENT
SUMMARY:Grace 4x1 - Dead Man's Time
DTSTAMP:20240703T025607Z
SEQUENCE:0
UID:182401-2-841ebed20eb198c4569419e99b7bf40a@themidnightzone.com
ORGANIZER;CN="Midnight":midnight@themidnightzone.com
DESCRIPTION:A vicious robbery at a secluded Brighton home\, draws Grace 
	andBranson into a puzzling enquiry when thousands of pounds worthof beauti
	ful antiques are stolen from the house. As Grace digsdeeper into this myst
	erious crime\, he unearths a web ofancient grudges - a web which leads him
	 down a dark\, murderoustrail through the world of Brighton antiques\, in 
	a raceagainst the clock\, to untangle who is at the heart of thisrobbery\,
	 and bring Gavin Daly the answers he has beendesperately chasing for many 
	years.
DTSTART:20240702T040000Z
DTEND:20240702T054900Z
END:VEVENT
END:VCALENDAR
