BEGIN:VCALENDAR
VERSION:2.0
PRODID:-//InvisionCommunity Events 4.7.23//EN
METHOD:PUBLISH
CALSCALE:GREGORIAN
REFRESH-INTERVAL:PT15M
X-PUBLISHED-TTL:PT15M
X-WR-CALNAME:At My TV
NAME:At My TV
BEGIN:VTIMEZONE
TZID:Europe/London
TZURL:http://tzurl.org/zoneinfo/Europe/London
X-LIC-LOCATION:Europe/London
BEGIN:DAYLIGHT
TZOFFSETFROM:+0000
TZOFFSETTO:+0100
TZNAME:BST
DTSTART:20240331T020000Z
RRULE:FREQ=YEARLY;BYMONTH=3;BYDAY=-1SU
END:DAYLIGHT
BEGIN:STANDARD
TZOFFSETFROM:+0100
TZOFFSETTO:+0000
TZNAME:GMT
DTSTART:20241027T020000Z
RRULE:FREQ=YEARLY;BYMONTH=10;BYDAY=-1SU
END:STANDARD
END:VTIMEZONE
BEGIN:VEVENT
SUMMARY:Hot Ones 24x8 - Sabrina Carpenter Talks Nonsense While Eatin
	gSpicy Wings
DTSTAMP:20240706T025606Z
SEQUENCE:0
UID:182517-2-841ebed20eb198c4569419e99b7bf40a@themidnightzone.com
ORGANIZER;CN="Midnight":midnight@themidnightzone.com
DESCRIPTION:Sabrina Carpenter is a singer and actress you met first onDi
	sney Channel's \"Girl Meets World\,\" and who you now know fromher breakou
	t pop stardom and string of chart-topping smashes.The latest singles are \
	"Please\, Please\, Please\" andsong-of-summer-candidate \"Espresso\,\" and
	 a brand-newalbum—Short N' Sweet—is set to drop on August 23rd. But ho
	wis she with spicy food? Find out as Carpenter discussessongwriting\, Beat
	les lore\, and her viral \"Nonsense\" outros.
DTSTART:20240711T040000Z
DTEND:20240711T042300Z
END:VEVENT
END:VCALENDAR
