BEGIN:VCALENDAR
VERSION:2.0
PRODID:-//InvisionCommunity Events 4.7.23//EN
METHOD:PUBLISH
CALSCALE:GREGORIAN
REFRESH-INTERVAL:PT15M
X-PUBLISHED-TTL:PT15M
X-WR-CALNAME:At My TV
NAME:At My TV
BEGIN:VTIMEZONE
TZID:Europe/London
TZURL:http://tzurl.org/zoneinfo/Europe/London
X-LIC-LOCATION:Europe/London
BEGIN:DAYLIGHT
TZOFFSETFROM:+0000
TZOFFSETTO:+0100
TZNAME:BST
DTSTART:20240331T020000Z
RRULE:FREQ=YEARLY;BYMONTH=3;BYDAY=-1SU
END:DAYLIGHT
BEGIN:STANDARD
TZOFFSETFROM:+0100
TZOFFSETTO:+0000
TZNAME:GMT
DTSTART:20241027T020000Z
RRULE:FREQ=YEARLY;BYMONTH=10;BYDAY=-1SU
END:STANDARD
END:VTIMEZONE
BEGIN:VEVENT
SUMMARY:Criminal Minds 17x9 - Stars & Stripes
DTSTAMP:20240711T105605Z
SEQUENCE:0
UID:182756-2-841ebed20eb198c4569419e99b7bf40a@themidnightzone.com
ORGANIZER;CN="Midnight":midnight@themidnightzone.com
DESCRIPTION:With Jade on the run\, the BAU continue connecting Gold Star
	victims to Aida Limited\, a private-security firm withgovernment connectio
	ns. Jade and Dana follow Voit's breadcrumbsto the heart of the \"conspirac
	y.\" Rossi confronts Voit\, whileTyler and Prentiss confront the leader of
	 Aida. DirectorMadison's true intentions are revealed. Meanwhile\, Jade ha
	s adisturbing revelation about her own past. Closing in on thetruth\, the 
	BAU execute a search warrant with deadlyconsequences.
DTSTART:20240725T040000Z
DTEND:20240725T050000Z
END:VEVENT
END:VCALENDAR
