BEGIN:VCALENDAR
VERSION:2.0
PRODID:-//InvisionCommunity Events 4.7.23//EN
METHOD:PUBLISH
CALSCALE:GREGORIAN
REFRESH-INTERVAL:PT15M
X-PUBLISHED-TTL:PT15M
X-WR-CALNAME:At My TV
NAME:At My TV
BEGIN:VTIMEZONE
TZID:Europe/London
TZURL:http://tzurl.org/zoneinfo/Europe/London
X-LIC-LOCATION:Europe/London
BEGIN:DAYLIGHT
TZOFFSETFROM:+0000
TZOFFSETTO:+0100
TZNAME:BST
DTSTART:20240331T020000Z
RRULE:FREQ=YEARLY;BYMONTH=3;BYDAY=-1SU
END:DAYLIGHT
BEGIN:STANDARD
TZOFFSETFROM:+0100
TZOFFSETTO:+0000
TZNAME:GMT
DTSTART:20241027T020000Z
RRULE:FREQ=YEARLY;BYMONTH=10;BYDAY=-1SU
END:STANDARD
END:VTIMEZONE
BEGIN:VEVENT
SUMMARY:Suspect 2x3 - Louisa
DTSTAMP:20240716T025603Z
SEQUENCE:0
UID:182945-2-841ebed20eb198c4569419e99b7bf40a@themidnightzone.com
ORGANIZER;CN="Midnight":midnight@themidnightzone.com
DESCRIPTION:Susannah tracks down her ex-client\, officer Louisa\, whotho
	ugh initially hostile eventually opens up about a witnesswho saw her frien
	d being killed by a man matching Jon'sdescription. Louisa admits that she 
	was threatened into silenceand Susannah realises they might both be in imm
	inent danger.Louisa sends Susannah a photo of the witness who she needs to
	find. As Susannah hurries away\, it's clear that she too couldnow be a tar
	get.
DTSTART:20240718T200000Z
DTEND:20240718T203000Z
END:VEVENT
END:VCALENDAR
