BEGIN:VCALENDAR
VERSION:2.0
PRODID:-//InvisionCommunity Events 4.7.23//EN
METHOD:PUBLISH
CALSCALE:GREGORIAN
REFRESH-INTERVAL:PT15M
X-PUBLISHED-TTL:PT15M
X-WR-CALNAME:At My TV
NAME:At My TV
BEGIN:VTIMEZONE
TZID:Europe/London
TZURL:http://tzurl.org/zoneinfo/Europe/London
X-LIC-LOCATION:Europe/London
BEGIN:DAYLIGHT
TZOFFSETFROM:+0000
TZOFFSETTO:+0100
TZNAME:BST
DTSTART:20240331T020000Z
RRULE:FREQ=YEARLY;BYMONTH=3;BYDAY=-1SU
END:DAYLIGHT
BEGIN:STANDARD
TZOFFSETFROM:+0100
TZOFFSETTO:+0000
TZNAME:GMT
DTSTART:20241027T020000Z
RRULE:FREQ=YEARLY;BYMONTH=10;BYDAY=-1SU
END:STANDARD
END:VTIMEZONE
BEGIN:VEVENT
SUMMARY:BBQ Brawl: Flay V. Symon 5x4 - Nose to Tail
DTSTAMP:20240716T105602Z
SEQUENCE:0
UID:182961-2-841ebed20eb198c4569419e99b7bf40a@themidnightzone.com
ORGANIZER;CN="Midnight":midnight@themidnightzone.com
DESCRIPTION:A shocking ingredient in the advantage challenge requires te
	amcaptains Bobby Flay\, Sunny Anderson and Michael Voltaggio tostep up the
	ir game. In the team brawl\, the grills and smokersare taken away\, and th
	e Brawlers must share a single piece ofequipment to cook up a nose-to-tail
	 feast.
DTSTART:20240730T010000Z
DTEND:20240730T020000Z
END:VEVENT
END:VCALENDAR
