BEGIN:VCALENDAR
VERSION:2.0
PRODID:-//InvisionCommunity Events 4.7.23//EN
METHOD:PUBLISH
CALSCALE:GREGORIAN
REFRESH-INTERVAL:PT15M
X-PUBLISHED-TTL:PT15M
X-WR-CALNAME:At My TV
NAME:At My TV
BEGIN:VTIMEZONE
TZID:Europe/London
TZURL:http://tzurl.org/zoneinfo/Europe/London
X-LIC-LOCATION:Europe/London
BEGIN:DAYLIGHT
TZOFFSETFROM:+0000
TZOFFSETTO:+0100
TZNAME:BST
DTSTART:20240331T020000Z
RRULE:FREQ=YEARLY;BYMONTH=3;BYDAY=-1SU
END:DAYLIGHT
BEGIN:STANDARD
TZOFFSETFROM:+0100
TZOFFSETTO:+0000
TZNAME:GMT
DTSTART:20241027T020000Z
RRULE:FREQ=YEARLY;BYMONTH=10;BYDAY=-1SU
END:STANDARD
END:VTIMEZONE
BEGIN:VEVENT
SUMMARY:Tamron Hall 6x9 - The New Sisterhood Vibe Check
DTSTAMP:20240906T025544Z
SEQUENCE:0
UID:184717-2-841ebed20eb198c4569419e99b7bf40a@themidnightzone.com
ORGANIZER;CN="Midnight":midnight@themidnightzone.com
DESCRIPTION:The New Sisterhood Vibe Check: An in-depth look at women\,fr
	iendship and whether we really have each other's backs.First\, SANAA LATHA
	N and AUNJANUE ELLIS-TAYLOR talk about theenduring power of friendship in 
	their new Hulu film \"TheSupremes at Earl's All-You-Can-Eat.\" Then\, we e
	xamine thechallenges behind interracial and interfaith friendships.Plus\, 
	we talk about what it means to be a \"pick-me girl.\"
DTSTART:20240913T040000Z
DTEND:20240913T050000Z
END:VEVENT
END:VCALENDAR
