BEGIN:VCALENDAR
VERSION:2.0
PRODID:-//InvisionCommunity Events 4.7.23//EN
METHOD:PUBLISH
CALSCALE:GREGORIAN
REFRESH-INTERVAL:PT15M
X-PUBLISHED-TTL:PT15M
X-WR-CALNAME:At My TV
NAME:At My TV
BEGIN:VTIMEZONE
TZID:Europe/London
TZURL:http://tzurl.org/zoneinfo/Europe/London
X-LIC-LOCATION:Europe/London
BEGIN:DAYLIGHT
TZOFFSETFROM:+0000
TZOFFSETTO:+0100
TZNAME:BST
DTSTART:20240331T020000Z
RRULE:FREQ=YEARLY;BYMONTH=3;BYDAY=-1SU
END:DAYLIGHT
BEGIN:STANDARD
TZOFFSETFROM:+0100
TZOFFSETTO:+0000
TZNAME:GMT
DTSTART:20241027T020000Z
RRULE:FREQ=YEARLY;BYMONTH=10;BYDAY=-1SU
END:STANDARD
END:VTIMEZONE
BEGIN:VEVENT
SUMMARY:Industry 3x7 - Useful Idiot
DTSTAMP:20240909T105543Z
SEQUENCE:0
UID:184836-2-841ebed20eb198c4569419e99b7bf40a@themidnightzone.com
ORGANIZER;CN="Midnight":midnight@themidnightzone.com
DESCRIPTION:When disaster strikes during Pierpoint's 150th anniversaryce
	lebration\, Eric is summoned to the executive boardroom\,while Rishi\, Swe
	etpea\, and Anraj try to save their own skinson the trading floor. Across 
	town\, Harper's risky movesjeopardize LeviathanAlpha\, while Yasmin escape
	s on a road tripwith Robert.
DTSTART:20240923T021000Z
DTEND:20240923T031000Z
END:VEVENT
END:VCALENDAR
