BEGIN:VCALENDAR
VERSION:2.0
PRODID:-//InvisionCommunity Events 4.7.23//EN
METHOD:PUBLISH
CALSCALE:GREGORIAN
REFRESH-INTERVAL:PT15M
X-PUBLISHED-TTL:PT15M
X-WR-CALNAME:At My TV
NAME:At My TV
BEGIN:VTIMEZONE
TZID:Europe/London
TZURL:http://tzurl.org/zoneinfo/Europe/London
X-LIC-LOCATION:Europe/London
BEGIN:DAYLIGHT
TZOFFSETFROM:+0000
TZOFFSETTO:+0100
TZNAME:BST
DTSTART:20240331T020000Z
RRULE:FREQ=YEARLY;BYMONTH=3;BYDAY=-1SU
END:DAYLIGHT
BEGIN:STANDARD
TZOFFSETFROM:+0100
TZOFFSETTO:+0000
TZNAME:GMT
DTSTART:20241027T020000Z
RRULE:FREQ=YEARLY;BYMONTH=10;BYDAY=-1SU
END:STANDARD
END:VTIMEZONE
BEGIN:VEVENT
SUMMARY:Tamron Hall 6x10 - Our Up & Coming Designer Series Kickoff
DTSTAMP:20240914T025541Z
SEQUENCE:0
UID:185088-2-841ebed20eb198c4569419e99b7bf40a@themidnightzone.com
ORGANIZER;CN="Midnight":midnight@themidnightzone.com
DESCRIPTION:We're highlighting the fiercest names in fashion to kick off
	our fall fashion Up-and-Coming Designer series! First up isworld-renowned 
	designer CHARLES HARBISON\, whose designs haveattracted the likes of Miche
	lle Obama and Beyoncé. New Yorkstylist DEE KAUMBA gives an exclusive upda
	te on hergrandmother\, who went viral in her photo series from Zambia.Then
	\, up-and-coming designer 22-year-old ANNABELLE BRAME showsus her eye-popp
	ing\, sustainable clothing.
DTSTART:20240916T040000Z
DTEND:20240916T050000Z
END:VEVENT
END:VCALENDAR
