BEGIN:VCALENDAR
VERSION:2.0
PRODID:-//InvisionCommunity Events 4.7.23//EN
METHOD:PUBLISH
CALSCALE:GREGORIAN
REFRESH-INTERVAL:PT15M
X-PUBLISHED-TTL:PT15M
X-WR-CALNAME:At My TV
NAME:At My TV
BEGIN:VTIMEZONE
TZID:Europe/London
TZURL:http://tzurl.org/zoneinfo/Europe/London
X-LIC-LOCATION:Europe/London
BEGIN:DAYLIGHT
TZOFFSETFROM:+0000
TZOFFSETTO:+0100
TZNAME:BST
DTSTART:20240331T020000Z
RRULE:FREQ=YEARLY;BYMONTH=3;BYDAY=-1SU
END:DAYLIGHT
BEGIN:STANDARD
TZOFFSETFROM:+0100
TZOFFSETTO:+0000
TZNAME:GMT
DTSTART:20241027T020000Z
RRULE:FREQ=YEARLY;BYMONTH=10;BYDAY=-1SU
END:STANDARD
END:VTIMEZONE
BEGIN:VEVENT
SUMMARY:RuPaul's Drag Race UK 6x2 - Stitch & Strut
DTSTAMP:20240919T105540Z
SEQUENCE:0
UID:185327-2-841ebed20eb198c4569419e99b7bf40a@themidnightzone.com
ORGANIZER;CN="Midnight":midnight@themidnightzone.com
DESCRIPTION:In their second week\, the queens become sewing bees to take
	 onone of Drag Race's toughest tasks – the Design Challenge.But\, of cou
	rse\, there's a snag\, as the queens are surprisedwith an unexpected twist
	 - it's a team challenge! The queensare tasked with working together to po
	ol their charisma\,uniqueness\, nerve\, talent and sewing skills and creat
	eshow-stopping fashion.Which fashion house will sew\, glue anddesign their
	 way to be top of the frocks? Which fashion housewill fray at the seams an
	d look a bit basic? \n\nThe questionremains – who will sashay away from
	 the competition?Ru'ssupermodel peer and Drag Race fan favourite Kristen M
	cMenamymakes a welcome return to the judging panel\, alongsideMichelle Vis
	age and Graham Norton.
DTSTART:20241003T200000Z
DTEND:20241003T210700Z
END:VEVENT
END:VCALENDAR
