BEGIN:VCALENDAR
VERSION:2.0
PRODID:-//InvisionCommunity Events 4.7.23//EN
METHOD:PUBLISH
CALSCALE:GREGORIAN
REFRESH-INTERVAL:PT15M
X-PUBLISHED-TTL:PT15M
X-WR-CALNAME:At My TV
NAME:At My TV
BEGIN:VTIMEZONE
TZID:Europe/London
TZURL:http://tzurl.org/zoneinfo/Europe/London
X-LIC-LOCATION:Europe/London
BEGIN:DAYLIGHT
TZOFFSETFROM:+0000
TZOFFSETTO:+0100
TZNAME:BST
DTSTART:20250330T020000Z
RRULE:FREQ=YEARLY;BYMONTH=3;BYDAY=-1SU
END:DAYLIGHT
BEGIN:STANDARD
TZOFFSETFROM:+0100
TZOFFSETTO:+0000
TZNAME:GMT
DTSTART:20251026T020000Z
RRULE:FREQ=YEARLY;BYMONTH=10;BYDAY=-1SU
END:STANDARD
END:VTIMEZONE
BEGIN:VEVENT
SUMMARY:NOVA 52x1 - What Are UFOs?
DTSTAMP:20240921T025540Z
SEQUENCE:0
UID:185424-2-841ebed20eb198c4569419e99b7bf40a@themidnightzone.com
ORGANIZER;CN="Midnight":midnight@themidnightzone.com
DESCRIPTION:For decades UFOs have captivated the public\, even as manysc
	ientists saw them as too taboo to investigate. Now\, afterhighly publicize
	d sightings of unidentified objects by Navypilots\, UFOs are moving out of
	 the shadows and into thelight\, as NASA pledges to study them scientifica
	lly. So whatdoes science have to say? Though some are identified asballoon
	s or drones\, weather phenomena\, or optical illusions\,others remain myst
	erious. Could they be the result of secretnew technology developed by othe
	r governments – or our own?And what would it take for alien engineers to
	 traverse vastdistances to send probes or visit Earth from other solarsyst
	ems? Explore the evidence\, as astrophysicists andengineers use new techno
	logies to investigate the strangestobjects in our skies.
DTSTART:20250123T020000Z
DTEND:20250123T030000Z
END:VEVENT
END:VCALENDAR
