BEGIN:VCALENDAR
VERSION:2.0
PRODID:-//InvisionCommunity Events 4.7.23//EN
METHOD:PUBLISH
CALSCALE:GREGORIAN
REFRESH-INTERVAL:PT15M
X-PUBLISHED-TTL:PT15M
X-WR-CALNAME:At My TV
NAME:At My TV
BEGIN:VTIMEZONE
TZID:Europe/London
TZURL:http://tzurl.org/zoneinfo/Europe/London
X-LIC-LOCATION:Europe/London
BEGIN:DAYLIGHT
TZOFFSETFROM:+0000
TZOFFSETTO:+0100
TZNAME:BST
DTSTART:20240331T020000Z
RRULE:FREQ=YEARLY;BYMONTH=3;BYDAY=-1SU
END:DAYLIGHT
BEGIN:STANDARD
TZOFFSETFROM:+0100
TZOFFSETTO:+0000
TZNAME:GMT
DTSTART:20241027T020000Z
RRULE:FREQ=YEARLY;BYMONTH=10;BYDAY=-1SU
END:STANDARD
END:VTIMEZONE
BEGIN:VEVENT
SUMMARY:First Dates 22x6 - Episode 6
DTSTAMP:20240924T025538Z
SEQUENCE:0
UID:185574-2-841ebed20eb198c4569419e99b7bf40a@themidnightzone.com
ORGANIZER;CN="Midnight":midnight@themidnightzone.com
DESCRIPTION:Twenty six-year-old graphic designer Charlie says that somep
	eople describe her optimism as 'relentless'. She's matchedwith 25-year-old
	 Australian osteopath Benj\, who loves to talkabout his feelings and is fo
	nd of a cry. Bus driver Tommy andelectrician Luke both agree that they hat
	e dating apps andhook-up culture. However\, Luke then learns something abo
	utTommy that leaves their date hanging by a thread. Stephen isdivorced wit
	h two kids\, he's 46\, and he works as a toiletryproducts salesman. He giv
	es his date\, 42-year-old mum-of-oneRachel\, a lesson in loo paper. Will s
	he be happy to roll withit?
DTSTART:20240927T210000Z
DTEND:20240927T220500Z
END:VEVENT
END:VCALENDAR
