BEGIN:VCALENDAR
VERSION:2.0
PRODID:-//InvisionCommunity Events 4.7.23//EN
METHOD:PUBLISH
CALSCALE:GREGORIAN
REFRESH-INTERVAL:PT15M
X-PUBLISHED-TTL:PT15M
X-WR-CALNAME:At My TV
NAME:At My TV
BEGIN:VTIMEZONE
TZID:Europe/London
TZURL:http://tzurl.org/zoneinfo/Europe/London
X-LIC-LOCATION:Europe/London
BEGIN:DAYLIGHT
TZOFFSETFROM:+0000
TZOFFSETTO:+0100
TZNAME:BST
DTSTART:20240331T020000Z
RRULE:FREQ=YEARLY;BYMONTH=3;BYDAY=-1SU
END:DAYLIGHT
BEGIN:STANDARD
TZOFFSETFROM:+0100
TZOFFSETTO:+0000
TZNAME:GMT
DTSTART:20241027T020000Z
RRULE:FREQ=YEARLY;BYMONTH=10;BYDAY=-1SU
END:STANDARD
END:VTIMEZONE
BEGIN:VEVENT
SUMMARY:My Brilliant Friend 4x5 - The Fracture
DTSTAMP:20240924T105538Z
SEQUENCE:0
UID:185589-2-841ebed20eb198c4569419e99b7bf40a@themidnightzone.com
ORGANIZER;CN="Midnight":midnight@themidnightzone.com
DESCRIPTION:After Elena's daughter Imma is born\, Lila brings Elena'smot
	her to see the baby\, but the visit is unexpectedly cutshort when Immacola
	ta collapses. When Nino and Lila takeImmacolata to the hospital\, Elena fi
	nds herself plagued withjealousy. Later\, Marcello causes a scene when he 
	insistsImmacolata be moved to a clinic.
DTSTART:20241008T010000Z
DTEND:20241008T015900Z
END:VEVENT
END:VCALENDAR
