BEGIN:VCALENDAR
VERSION:2.0
PRODID:-//InvisionCommunity Events 4.7.23//EN
METHOD:PUBLISH
CALSCALE:GREGORIAN
REFRESH-INTERVAL:PT15M
X-PUBLISHED-TTL:PT15M
X-WR-CALNAME:At My TV
NAME:At My TV
BEGIN:VTIMEZONE
TZID:Europe/London
TZURL:http://tzurl.org/zoneinfo/Europe/London
X-LIC-LOCATION:Europe/London
BEGIN:DAYLIGHT
TZOFFSETFROM:+0000
TZOFFSETTO:+0100
TZNAME:BST
DTSTART:20240331T020000Z
RRULE:FREQ=YEARLY;BYMONTH=3;BYDAY=-1SU
END:DAYLIGHT
BEGIN:STANDARD
TZOFFSETFROM:+0100
TZOFFSETTO:+0000
TZNAME:GMT
DTSTART:20241027T020000Z
RRULE:FREQ=YEARLY;BYMONTH=10;BYDAY=-1SU
END:STANDARD
END:VTIMEZONE
BEGIN:VEVENT
SUMMARY:The Masked Singer 12x4 - Group B Premiere: Sports Night
DTSTAMP:20241006T025535Z
SEQUENCE:0
UID:186322-2-841ebed20eb198c4569419e99b7bf40a@themidnightzone.com
ORGANIZER;CN="Midnight":midnight@themidnightzone.com
DESCRIPTION:It's \"Sports Night\" on The Masked Singer and time for the 
	GroupB premiere! Panelists Robin Thicke and Rita Ora open the showwith a h
	eart-pumping performance of \"Rock You Like A Hurricane\"by the Scorpions\
	, introduced by guest announcers and veteransof The Masked Singer\, Joel M
	cHale and Nikki Glaser! The fivebrand-new contestants make their grand deb
	ut with songs like\"Rock Your Body\,\"\"Believe\,\" \"We Belong\,\" \"Swee
	t Caroline\"and \"Lose Control\".
DTSTART:20241017T000000Z
DTEND:20241017T010000Z
END:VEVENT
END:VCALENDAR
