BEGIN:VCALENDAR
VERSION:2.0
PRODID:-//InvisionCommunity Events 4.7.23//EN
METHOD:PUBLISH
CALSCALE:GREGORIAN
REFRESH-INTERVAL:PT15M
X-PUBLISHED-TTL:PT15M
X-WR-CALNAME:At My TV
NAME:At My TV
BEGIN:VTIMEZONE
TZID:Europe/London
TZURL:http://tzurl.org/zoneinfo/Europe/London
X-LIC-LOCATION:Europe/London
BEGIN:DAYLIGHT
TZOFFSETFROM:+0000
TZOFFSETTO:+0100
TZNAME:BST
DTSTART:20240331T020000Z
RRULE:FREQ=YEARLY;BYMONTH=3;BYDAY=-1SU
END:DAYLIGHT
BEGIN:STANDARD
TZOFFSETFROM:+0100
TZOFFSETTO:+0000
TZNAME:GMT
DTSTART:20241027T020000Z
RRULE:FREQ=YEARLY;BYMONTH=10;BYDAY=-1SU
END:STANDARD
END:VTIMEZONE
BEGIN:VEVENT
SUMMARY:60 Minutes 57x7 - Deportation / Sanctions / Surfmen
DTSTAMP:20241014T025531Z
SEQUENCE:0
UID:186841-2-841ebed20eb198c4569419e99b7bf40a@themidnightzone.com
ORGANIZER;CN="Midnight":midnight@themidnightzone.com
DESCRIPTION:DEPORTATION: Cecilia Vega examines former President DonaldTr
	ump's campaign promise to conduct the largest deportation inAmerican histo
	ry. She goes out with Immigration and CustomsEnforcement (ICE) officers in
	 Maryland as they arrestundocumented immigrants with criminal records\, an
	d she talkswith one of the people Trump is likely to ask to oversee themas
	s deportations if he's elected: Tom Homan\, who led ICE whenthe Trump admi
	nistration separated about 5\,000 migrantchildren from their parents at th
	e southern border. AndyCourt\, Annabelle Hanflig and Camilo Montoya-Galvez
	 are theproducers.SANCTIONS: More than two years after Russia invadedUkrai
	ne\, the fighting continues\, and despite thousands ofeconomic sanctions\,
	 Russia's wartime economy is expected togrow. Sharyn Alfonsi sits down wit
	h Daleep Singh\, thearchitect behind the U.S. sanction strategy\, to discu
	ss hispast predictions and uncover new details about what's fuelingRussia'
	s economy. Her investigation leads to waters off thecoast of Greece\, wher
	e she tracks Russian oil tankers evadingsanctions and raises questions abo
	ut how Russia is making itsmoney. Lucy Hatcher is the producer.SURFMEN: Bi
	ll Whitakerventures out to one of the most dangerous inlets in America\,ni
	cknamed the Graveyard of the Pacific\, at the mouth of theColumbia River. 
	The mission? Document the training of elitemembers of the U.S. Coast Guard
	 determined to graduate from theNational Motor Lifeboat School and earn th
	e coveted title ofcertified Surfmen. Whitaker speaks with some of the best
	 waterrescue professionals in the country as they push their limits\,tackl
	ing the roughest waters and toughest test\, to hearfirsthand what it takes
	 to operate in huge breaking surf inorder to save lives. Rome Hartman is t
	he producer.
DTSTART:20241027T230000Z
DTEND:20241028T000000Z
END:VEVENT
END:VCALENDAR
