BEGIN:VCALENDAR
VERSION:2.0
PRODID:-//InvisionCommunity Events 4.7.23//EN
METHOD:PUBLISH
CALSCALE:GREGORIAN
REFRESH-INTERVAL:PT15M
X-PUBLISHED-TTL:PT15M
X-WR-CALNAME:At My TV
NAME:At My TV
BEGIN:VTIMEZONE
TZID:Europe/London
TZURL:http://tzurl.org/zoneinfo/Europe/London
X-LIC-LOCATION:Europe/London
BEGIN:DAYLIGHT
TZOFFSETFROM:+0000
TZOFFSETTO:+0100
TZNAME:BST
DTSTART:20240331T020000Z
RRULE:FREQ=YEARLY;BYMONTH=3;BYDAY=-1SU
END:DAYLIGHT
BEGIN:STANDARD
TZOFFSETFROM:+0100
TZOFFSETTO:+0000
TZNAME:GMT
DTSTART:20241027T020000Z
RRULE:FREQ=YEARLY;BYMONTH=10;BYDAY=-1SU
END:STANDARD
END:VTIMEZONE
BEGIN:VEVENT
SUMMARY:Saturday Night Live 50x6 - Bill Burr / Mk.gee
DTSTAMP:20241027T105527Z
SEQUENCE:0
UID:187660-2-841ebed20eb198c4569419e99b7bf40a@themidnightzone.com
ORGANIZER;CN="Midnight":midnight@themidnightzone.com
DESCRIPTION:Bill Burr returns to host \"Saturday Night Live\" for the se
	condtime on Nov. 9. The Emmy and Grammy Award nominee is currentlyon tour 
	with his \"Bill Burr Live\" show. Mk.gee performs as amusical guest for t
	he first time. He is currently on a worldtour with his critically acclaime
	d debut album\, \"Two Star&amp\; The Dream Police.\"
DTSTART:20241110T042900Z
DTEND:20241110T060200Z
END:VEVENT
END:VCALENDAR
