BEGIN:VCALENDAR
VERSION:2.0
PRODID:-//InvisionCommunity Events 4.7.23//EN
METHOD:PUBLISH
CALSCALE:GREGORIAN
REFRESH-INTERVAL:PT15M
X-PUBLISHED-TTL:PT15M
X-WR-CALNAME:At My TV
NAME:At My TV
BEGIN:VTIMEZONE
TZID:Europe/London
TZURL:http://tzurl.org/zoneinfo/Europe/London
X-LIC-LOCATION:Europe/London
BEGIN:DAYLIGHT
TZOFFSETFROM:+0000
TZOFFSETTO:+0100
TZNAME:BST
DTSTART:20240331T020000Z
RRULE:FREQ=YEARLY;BYMONTH=3;BYDAY=-1SU
END:DAYLIGHT
BEGIN:STANDARD
TZOFFSETFROM:+0100
TZOFFSETTO:+0000
TZNAME:GMT
DTSTART:20241027T020000Z
RRULE:FREQ=YEARLY;BYMONTH=10;BYDAY=-1SU
END:STANDARD
END:VTIMEZONE
BEGIN:VEVENT
SUMMARY:The Drew Barrymore Show 5x39 - Mariah Carey
DTSTAMP:20241027T105527Z
SEQUENCE:0
UID:187669-2-841ebed20eb198c4569419e99b7bf40a@themidnightzone.com
ORGANIZER;CN="Midnight":midnight@themidnightzone.com
DESCRIPTION:The Queen of Christmas Mariah Carey is joining Drew\, who 
	isdressed as the Queen of Halloween\, for a special Halloweenshow celebrat
	ing both holidays! Mariah is telling Drew aboutthe 30th anniversary of he
	r iconic hit holiday song\, herHalloween and Christmas traditions with her
	 kids and her Vegasresidency.Plus\, the Halloween celebration continues wi
	th theDrew-crew showing off their decorating skills with a spookydoor deco
	rating contest with special tips for the audience.Then\, they're sharing t
	he best tips for making festiveHalloween snacks that everyone will love.
DTSTART:20241031T040000Z
DTEND:20241031T050000Z
END:VEVENT
END:VCALENDAR
