BEGIN:VCALENDAR
VERSION:2.0
PRODID:-//InvisionCommunity Events 4.7.23//EN
METHOD:PUBLISH
CALSCALE:GREGORIAN
REFRESH-INTERVAL:PT15M
X-PUBLISHED-TTL:PT15M
X-WR-CALNAME:At My TV
NAME:At My TV
BEGIN:VTIMEZONE
TZID:Europe/London
TZURL:http://tzurl.org/zoneinfo/Europe/London
X-LIC-LOCATION:Europe/London
BEGIN:DAYLIGHT
TZOFFSETFROM:+0000
TZOFFSETTO:+0100
TZNAME:BST
DTSTART:20240331T020000Z
RRULE:FREQ=YEARLY;BYMONTH=3;BYDAY=-1SU
END:DAYLIGHT
BEGIN:STANDARD
TZOFFSETFROM:+0100
TZOFFSETTO:+0000
TZNAME:GMT
DTSTART:20241027T020000Z
RRULE:FREQ=YEARLY;BYMONTH=10;BYDAY=-1SU
END:STANDARD
END:VTIMEZONE
BEGIN:VEVENT
SUMMARY:The Masked Singer 12x6 - Group B Finals: '60s Night
DTSTAMP:20241030T105527Z
SEQUENCE:0
UID:187817-2-841ebed20eb198c4569419e99b7bf40a@themidnightzone.com
ORGANIZER;CN="Midnight":midnight@themidnightzone.com
DESCRIPTION:It's time to get groovy on \"60's Night\"! The show opens wi
	th a\"Fun\" rendition of \"Fun\, Fun\, Fun\" by The Beach Boys beforethe G
	roup B finalists sing their hearts out to secure a spot inthe Quarter Fina
	ls. The celebrities will pay tribute to thegrooviest era of all with songs
	 like\, \"House Of The RisingSun\,\" \"Do You Love Me\" and \"Ain't No Way
	\" before the peace andlove must come to an end. Will there be a dramatic 
	doubleelimination\, or will the judges use the Ding Dong Keep It OnBell?
DTSTART:20241107T010000Z
DTEND:20241107T020000Z
END:VEVENT
END:VCALENDAR
