BEGIN:VCALENDAR
VERSION:2.0
PRODID:-//InvisionCommunity Events 4.7.23//EN
METHOD:PUBLISH
CALSCALE:GREGORIAN
REFRESH-INTERVAL:PT15M
X-PUBLISHED-TTL:PT15M
X-WR-CALNAME:At My TV
NAME:At My TV
BEGIN:VTIMEZONE
TZID:Europe/London
TZURL:http://tzurl.org/zoneinfo/Europe/London
X-LIC-LOCATION:Europe/London
BEGIN:DAYLIGHT
TZOFFSETFROM:+0000
TZOFFSETTO:+0100
TZNAME:BST
DTSTART:20240331T020000Z
RRULE:FREQ=YEARLY;BYMONTH=3;BYDAY=-1SU
END:DAYLIGHT
BEGIN:STANDARD
TZOFFSETFROM:+0100
TZOFFSETTO:+0000
TZNAME:GMT
DTSTART:20241027T020000Z
RRULE:FREQ=YEARLY;BYMONTH=10;BYDAY=-1SU
END:STANDARD
END:VTIMEZONE
BEGIN:VEVENT
SUMMARY:Traffic Cops 12x19 - Episode 19
DTSTAMP:20241103T105526Z
SEQUENCE:0
UID:188084-2-841ebed20eb198c4569419e99b7bf40a@themidnightzone.com
ORGANIZER;CN="Midnight":midnight@themidnightzone.com
DESCRIPTION:A high-speed pursuit for a traffic officer is risky business
	\,with 'drivers failing to stop' causing around 40 deaths a yearon Britain
	's roads. Police across the UK are involved in nearly13\,000 pursuits ever
	y year as suspected criminals tryeverything they can to evade capture. In 
	this episode\, adangerous driver fails to stop for officers for more than 
	45minutes. The driver eventually goes off road and three men makea run for
	 it. And officers are forced to engage in the pursuitof a vehicle that ha
	s already failed to stop for local police.After losing sight of the car\, 
	officers search the area andfind the car abandoned and arrest a suspect cl
	ose. 
DTSTART:20241106T200000Z
DTEND:20241106T210000Z
END:VEVENT
END:VCALENDAR
