BEGIN:VCALENDAR
VERSION:2.0
PRODID:-//InvisionCommunity Events 4.7.23//EN
METHOD:PUBLISH
CALSCALE:GREGORIAN
REFRESH-INTERVAL:PT15M
X-PUBLISHED-TTL:PT15M
X-WR-CALNAME:At My TV
NAME:At My TV
BEGIN:VTIMEZONE
TZID:Europe/London
TZURL:http://tzurl.org/zoneinfo/Europe/London
X-LIC-LOCATION:Europe/London
BEGIN:DAYLIGHT
TZOFFSETFROM:+0000
TZOFFSETTO:+0100
TZNAME:BST
DTSTART:20240331T020000Z
RRULE:FREQ=YEARLY;BYMONTH=3;BYDAY=-1SU
END:DAYLIGHT
BEGIN:STANDARD
TZOFFSETFROM:+0100
TZOFFSETTO:+0000
TZNAME:GMT
DTSTART:20241027T020000Z
RRULE:FREQ=YEARLY;BYMONTH=10;BYDAY=-1SU
END:STANDARD
END:VTIMEZONE
BEGIN:VEVENT
SUMMARY:The Jennifer Hudson Show 3x38 - Jason Derulo\, Jamie Kern Li
	ma
DTSTAMP:20241103T105525Z
SEQUENCE:0
UID:188086-2-841ebed20eb198c4569419e99b7bf40a@themidnightzone.com
ORGANIZER;CN="Midnight":midnight@themidnightzone.com
DESCRIPTION:R&amp\;amp:B sensation Jason Derulo is here is chat about 
	hisnewest single\, \"Make Me Happy.\"New York Times best-sellingauthor and
	 entrepreneur Jamie Kern Lima stops by to sharetips on ways to take care
	 of yourself and protect your joyduring Election Week. She'll also talk ab
	out her upcomingbook\, \"Worthy.\"
DTSTART:20241106T050000Z
DTEND:20241106T060000Z
END:VEVENT
END:VCALENDAR
