BEGIN:VCALENDAR
VERSION:2.0
PRODID:-//InvisionCommunity Events 4.7.23//EN
METHOD:PUBLISH
CALSCALE:GREGORIAN
REFRESH-INTERVAL:PT15M
X-PUBLISHED-TTL:PT15M
X-WR-CALNAME:At My TV
NAME:At My TV
BEGIN:VTIMEZONE
TZID:Europe/London
TZURL:http://tzurl.org/zoneinfo/Europe/London
X-LIC-LOCATION:Europe/London
BEGIN:DAYLIGHT
TZOFFSETFROM:+0000
TZOFFSETTO:+0100
TZNAME:BST
DTSTART:20240331T020000Z
RRULE:FREQ=YEARLY;BYMONTH=3;BYDAY=-1SU
END:DAYLIGHT
BEGIN:STANDARD
TZOFFSETFROM:+0100
TZOFFSETTO:+0000
TZNAME:GMT
DTSTART:20241027T020000Z
RRULE:FREQ=YEARLY;BYMONTH=10;BYDAY=-1SU
END:STANDARD
END:VTIMEZONE
BEGIN:VEVENT
SUMMARY:Wolf Hall 2x1 - Wreckage
DTSTAMP:20241106T105524Z
SEQUENCE:0
UID:188252-2-841ebed20eb198c4569419e99b7bf40a@themidnightzone.com
ORGANIZER;CN="Midnight":midnight@themidnightzone.com
DESCRIPTION:The Mirror and the Light opens in the heartbeat after AnneBo
	leyn's death\, as the young queen's blood is sluiced from thescaffold and 
	Thomas Cromwell picks his way across the wreckageto take up his position a
	s principal councillor to anunpredictable king.Despite his lowly beginning
	s in a Putneyblacksmith's forge\, Cromwell has made a reputation for himse
	lfas one of England's most formidable politicians. On the day ofthe queen'
	s death\, he is at the height of his powers. He hasfound a bloody way for 
	the king to escape his marriage\,pinning Anne Boleyn and her circle to cri
	mes they could neverhave imagined. He has delivered her to the Calais swor
	dsman'sblade. He has smoothed the path for the king's marriage to histhird
	 wife\, Jane Seymour. And he has been rewarded well. Nowboth master secret
	ary and lord privy seal\, there are few partsof the state's business that 
	do not pass over his desk.But inrising so high\, Cromwell has also attract
	ed powerfulenemies...
DTSTART:20241110T210000Z
DTEND:20241110T220000Z
END:VEVENT
END:VCALENDAR
